BEGIN:VCALENDAR
VERSION:2.0
PRODID:-//Avon Quarterback Club - ECPv6.15.20//NONSGML v1.0//EN
CALSCALE:GREGORIAN
METHOD:PUBLISH
X-ORIGINAL-URL:https://avonqbclub.com
X-WR-CALDESC:Events for Avon Quarterback Club
REFRESH-INTERVAL;VALUE=DURATION:PT1H
X-Robots-Tag:noindex
X-PUBLISHED-TTL:PT1H
BEGIN:VTIMEZONE
TZID:America/Indiana/Indianapolis
BEGIN:DAYLIGHT
TZOFFSETFROM:-0500
TZOFFSETTO:-0400
TZNAME:EDT
DTSTART:20230312T070000
END:DAYLIGHT
BEGIN:STANDARD
TZOFFSETFROM:-0400
TZOFFSETTO:-0500
TZNAME:EST
DTSTART:20231105T060000
END:STANDARD
BEGIN:DAYLIGHT
TZOFFSETFROM:-0500
TZOFFSETTO:-0400
TZNAME:EDT
DTSTART:20240310T070000
END:DAYLIGHT
BEGIN:STANDARD
TZOFFSETFROM:-0400
TZOFFSETTO:-0500
TZNAME:EST
DTSTART:20241103T060000
END:STANDARD
BEGIN:DAYLIGHT
TZOFFSETFROM:-0500
TZOFFSETTO:-0400
TZNAME:EDT
DTSTART:20250309T070000
END:DAYLIGHT
BEGIN:STANDARD
TZOFFSETFROM:-0400
TZOFFSETTO:-0500
TZNAME:EST
DTSTART:20251102T060000
END:STANDARD
END:VTIMEZONE
BEGIN:VEVENT
DTSTART;VALUE=DATE:20241010
DTEND;VALUE=DATE:20241012
DTSTAMP:20260424T165006
CREATED:20240725T170637Z
LAST-MODIFIED:20240725T170637Z
UID:11768-1728518400-1728691199@avonqbclub.com
SUMMARY:Weekly Theme: PINK OUT
DESCRIPTION:The theme for TNT Dinner and the Varsity game this week will be PINK OUT!
URL:https://avonqbclub.com/event/weekly-theme-pink-out-2024/
CATEGORIES:Weekly Theme
END:VEVENT
BEGIN:VEVENT
DTSTART;VALUE=DATE:20241003
DTEND;VALUE=DATE:20241005
DTSTAMP:20260424T165006
CREATED:20240725T170536Z
LAST-MODIFIED:20240813T040226Z
UID:11765-1727913600-1728086399@avonqbclub.com
SUMMARY:Weekly Theme: BLACK OUT
DESCRIPTION:The theme for TNT Dinner and the Varsity game this week will be BLACK OUT!
URL:https://avonqbclub.com/event/weekly-theme-blackout-2024/
CATEGORIES:Weekly Theme
END:VEVENT
BEGIN:VEVENT
DTSTART;VALUE=DATE:20240926
DTEND;VALUE=DATE:20240928
DTSTAMP:20260424T165006
CREATED:20240725T170158Z
LAST-MODIFIED:20240725T170158Z
UID:11759-1727308800-1727481599@avonqbclub.com
SUMMARY:Weekly Theme: HOMECOMING
DESCRIPTION:The theme for TNT Dinner and the Varsity game this week will be HOMECOMING!
URL:https://avonqbclub.com/event/weekly-theme-homecoming-2024/
CATEGORIES:Weekly Theme
END:VEVENT
BEGIN:VEVENT
DTSTART;VALUE=DATE:20240919
DTEND;VALUE=DATE:20240921
DTSTAMP:20260424T165006
CREATED:20240725T170007Z
LAST-MODIFIED:20240813T040257Z
UID:11756-1726704000-1726876799@avonqbclub.com
SUMMARY:Weekly Theme: WHITE LIES
DESCRIPTION:The theme for TNT Dinner and the Varsity game this week will be WHITE LIES!
URL:https://avonqbclub.com/event/weekly-theme-white-lie-2024/
CATEGORIES:Weekly Theme
END:VEVENT
BEGIN:VEVENT
DTSTART;VALUE=DATE:20240912
DTEND;VALUE=DATE:20240914
DTSTAMP:20260424T165006
CREATED:20240725T165203Z
LAST-MODIFIED:20240813T040316Z
UID:11748-1726099200-1726271999@avonqbclub.com
SUMMARY:Weekly Theme: USA/PATRIOTIC
DESCRIPTION:The theme for TNT Dinner and the Varsity game this week will be USA/PATRIOTIC!
URL:https://avonqbclub.com/event/weekly-theme-patriotic-2024/
CATEGORIES:Weekly Theme
END:VEVENT
BEGIN:VEVENT
DTSTART;VALUE=DATE:20240905
DTEND;VALUE=DATE:20240907
DTSTAMP:20260424T165006
CREATED:20240725T164919Z
LAST-MODIFIED:20240813T040345Z
UID:11743-1725494400-1725667199@avonqbclub.com
SUMMARY:Weekly Theme: NEON/SENIORS
DESCRIPTION:The theme for TNT Dinner and the Varsity game this week will be NEON/SENIORS!
URL:https://avonqbclub.com/event/weekly-theme-neon-2024/
CATEGORIES:Weekly Theme
END:VEVENT
BEGIN:VEVENT
DTSTART;VALUE=DATE:20240829
DTEND;VALUE=DATE:20240831
DTSTAMP:20260424T165006
CREATED:20240725T164632Z
LAST-MODIFIED:20240725T164632Z
UID:11741-1724889600-1725062399@avonqbclub.com
SUMMARY:Weekly Theme: HAWAIIAN
DESCRIPTION:The theme for TNT Dinner and the Varsity game this week will be HAWAIIAN!
URL:https://avonqbclub.com/event/weekly-theme-hawaiian-2024/
CATEGORIES:Weekly Theme
END:VEVENT
BEGIN:VEVENT
DTSTART;VALUE=DATE:20240822
DTEND;VALUE=DATE:20240824
DTSTAMP:20260424T165006
CREATED:20240725T164439Z
LAST-MODIFIED:20240725T164439Z
UID:11739-1724284800-1724457599@avonqbclub.com
SUMMARY:Weekly Theme: TOGA
DESCRIPTION:The theme for TNT Dinner and the Varsity game this week will be TOGA!
URL:https://avonqbclub.com/event/weekly-theme-toga-2024/
CATEGORIES:Weekly Theme
END:VEVENT
END:VCALENDAR