BEGIN:VCALENDAR
VERSION:2.0
PRODID:-//Avon Quarterback Club - ECPv6.15.20//NONSGML v1.0//EN
CALSCALE:GREGORIAN
METHOD:PUBLISH
X-ORIGINAL-URL:https://avonqbclub.com
X-WR-CALDESC:Events for Avon Quarterback Club
REFRESH-INTERVAL;VALUE=DURATION:PT1H
X-Robots-Tag:noindex
X-PUBLISHED-TTL:PT1H
BEGIN:VTIMEZONE
TZID:America/Indiana/Indianapolis
BEGIN:DAYLIGHT
TZOFFSETFROM:-0500
TZOFFSETTO:-0400
TZNAME:EDT
DTSTART:20220313T070000
END:DAYLIGHT
BEGIN:STANDARD
TZOFFSETFROM:-0400
TZOFFSETTO:-0500
TZNAME:EST
DTSTART:20221106T060000
END:STANDARD
BEGIN:DAYLIGHT
TZOFFSETFROM:-0500
TZOFFSETTO:-0400
TZNAME:EDT
DTSTART:20230312T070000
END:DAYLIGHT
BEGIN:STANDARD
TZOFFSETFROM:-0400
TZOFFSETTO:-0500
TZNAME:EST
DTSTART:20231105T060000
END:STANDARD
BEGIN:DAYLIGHT
TZOFFSETFROM:-0500
TZOFFSETTO:-0400
TZNAME:EDT
DTSTART:20240310T070000
END:DAYLIGHT
BEGIN:STANDARD
TZOFFSETFROM:-0400
TZOFFSETTO:-0500
TZNAME:EST
DTSTART:20241103T060000
END:STANDARD
END:VTIMEZONE
BEGIN:VEVENT
DTSTART;TZID=America/Indiana/Indianapolis:20231006T190000
DTEND;TZID=America/Indiana/Indianapolis:20231006T220000
DTSTAMP:20260421T115125
CREATED:20230427T034449Z
LAST-MODIFIED:20230427T045159Z
UID:9560-1696618800-1696629600@avonqbclub.com
SUMMARY:Avon v. Zionsville
DESCRIPTION:
URL:https://avonqbclub.com/event/avon-v-zionsville-2023/
LOCATION:Zionsville High School\, 1000 Mulberry St\, Zionsville\, IN\, 46077\, United States
CATEGORIES:Game,Varsity
ATTACH;FMTTYPE=image/jpeg:https://avonqbclub.com/wp-content/uploads/2023/04/event-avon-v-zionsville.jpg
END:VEVENT
BEGIN:VEVENT
DTSTART;TZID=America/Indiana/Indianapolis:20230929T190000
DTEND;TZID=America/Indiana/Indianapolis:20230929T220000
DTSTAMP:20260421T115125
CREATED:20230427T034159Z
LAST-MODIFIED:20230912T020633Z
UID:9557-1696014000-1696024800@avonqbclub.com
SUMMARY:Avon v. Westfield (Pink Out!)
DESCRIPTION:Buy Tickets Here \nWear PINK at tonight’s game to kick off Breast Cancer Awareness Month!  Head over to the Club Shop to purchase an Avon Pink Out T-Shirt!  Order by Saturday\, Sept 16th! \n \n 
URL:https://avonqbclub.com/event/avon-v-westfield-2023/
LOCATION:Avon High School\, 7575 E Country Road 150 S\, Avon\, IN\, 46123\, United States
CATEGORIES:Game,Varsity
ATTACH;FMTTYPE=image/jpeg:https://avonqbclub.com/wp-content/uploads/2023/04/event-avon-v-westfield.jpg
END:VEVENT
BEGIN:VEVENT
DTSTART;TZID=America/Indiana/Indianapolis:20230922T190000
DTEND;TZID=America/Indiana/Indianapolis:20230922T220000
DTSTAMP:20260421T115125
CREATED:20230427T033802Z
LAST-MODIFIED:20230427T045214Z
UID:9553-1695409200-1695420000@avonqbclub.com
SUMMARY:Avon v. Fishers
DESCRIPTION:
URL:https://avonqbclub.com/event/avon-v-fishers-2023/
LOCATION:Fishers High School\, 13000 Promise Rd\, Fishers\, IN\, 46038\, United States
CATEGORIES:Game,Varsity
ATTACH;FMTTYPE=image/jpeg:https://avonqbclub.com/wp-content/uploads/2023/04/event-avon-v-fishers.jpg
END:VEVENT
BEGIN:VEVENT
DTSTART;TZID=America/Indiana/Indianapolis:20230915T190000
DTEND;TZID=America/Indiana/Indianapolis:20230915T220000
DTSTAMP:20260421T115125
CREATED:20230427T033238Z
LAST-MODIFIED:20230912T025249Z
UID:9550-1694804400-1694815200@avonqbclub.com
SUMMARY:Avon v. Franklin Central (Homecoming)
DESCRIPTION:Buy Tickets Here
URL:https://avonqbclub.com/event/avon-v-franklin-central-2023/
LOCATION:Avon High School\, 7575 E Country Road 150 S\, Avon\, IN\, 46123\, United States
CATEGORIES:Game,Varsity
ATTACH;FMTTYPE=image/jpeg:https://avonqbclub.com/wp-content/uploads/2023/04/event-avon-v-franklin-central.jpg
END:VEVENT
BEGIN:VEVENT
DTSTART;TZID=America/Indiana/Indianapolis:20230908T190000
DTEND;TZID=America/Indiana/Indianapolis:20230908T220000
DTSTAMP:20260421T115125
CREATED:20230427T032742Z
LAST-MODIFIED:20230427T045228Z
UID:9547-1694199600-1694210400@avonqbclub.com
SUMMARY:Avon v. Brownsburg
DESCRIPTION:Buy Tickets Here
URL:https://avonqbclub.com/event/avon-v-brownsburg-2023/
LOCATION:Avon High School\, 7575 E Country Road 150 S\, Avon\, IN\, 46123\, United States
CATEGORIES:Game,Varsity
ATTACH;FMTTYPE=image/jpeg:https://avonqbclub.com/wp-content/uploads/2023/04/event-avon-v-brownsburg.jpg
END:VEVENT
BEGIN:VEVENT
DTSTART;TZID=America/Indiana/Indianapolis:20230901T190000
DTEND;TZID=America/Indiana/Indianapolis:20230901T220000
DTSTAMP:20260421T115125
CREATED:20230427T031758Z
LAST-MODIFIED:20230427T045235Z
UID:9543-1693594800-1693605600@avonqbclub.com
SUMMARY:Avon v. Hamilton Southeastern
DESCRIPTION:
URL:https://avonqbclub.com/event/avon-v-hamilton-southeastern-2023/
LOCATION:Hamilton Southeastern High School\, 12499 Olio Rd\, Fishers\, IN\, 46037\, United States
CATEGORIES:Game,Varsity
ATTACH;FMTTYPE=image/jpeg:https://avonqbclub.com/wp-content/uploads/2023/04/event-avon-v-hamilton-southeastern.jpg
END:VEVENT
BEGIN:VEVENT
DTSTART;TZID=America/Indiana/Indianapolis:20230825T190000
DTEND;TZID=America/Indiana/Indianapolis:20230825T220000
DTSTAMP:20260421T115125
CREATED:20230427T030855Z
LAST-MODIFIED:20230427T045241Z
UID:9539-1692990000-1693000800@avonqbclub.com
SUMMARY:Avon v. Ben Davis
DESCRIPTION:
URL:https://avonqbclub.com/event/avon-v-ben-davis-2023/
LOCATION:Ben Davis High School\, 1200 N Girls School Rd\, Indianapolis\, IN\, 46214\, United States
CATEGORIES:Game,Varsity
ATTACH;FMTTYPE=image/jpeg:https://avonqbclub.com/wp-content/uploads/2023/04/event-avon-v-lawrence-north-1.jpg
END:VEVENT
BEGIN:VEVENT
DTSTART;TZID=America/Indiana/Indianapolis:20230818T190000
DTEND;TZID=America/Indiana/Indianapolis:20230818T220000
DTSTAMP:20260421T115125
CREATED:20230414T161225Z
LAST-MODIFIED:20230427T045247Z
UID:9194-1692385200-1692396000@avonqbclub.com
SUMMARY:Avon v. Lawrence North
DESCRIPTION:Buy Tickets Here
URL:https://avonqbclub.com/event/avon-v-lawrence-north-2023/
LOCATION:Avon High School\, 7575 E Country Road 150 S\, Avon\, IN\, 46123\, United States
CATEGORIES:Game,Varsity
ATTACH;FMTTYPE=image/jpeg:https://avonqbclub.com/wp-content/uploads/2023/04/event-avon-v-lawrence-north.jpg
END:VEVENT
BEGIN:VEVENT
DTSTART;TZID=America/Indiana/Indianapolis:20230811T190000
DTEND;TZID=America/Indiana/Indianapolis:20230811T220000
DTSTAMP:20260421T115125
CREATED:20230601T013610Z
LAST-MODIFIED:20230601T020351Z
UID:9840-1691780400-1691791200@avonqbclub.com
SUMMARY:Week 0 Scrimmage v. Warren Central
DESCRIPTION:
URL:https://avonqbclub.com/event/scrimmage-v-warren-central-2023/
LOCATION:Warren Central High School\, 9500 E 16th St\, Indianapolis\, IN\, 46229\, United States
CATEGORIES:Game,Scrimmage,Varsity
ATTACH;FMTTYPE=image/jpeg:https://avonqbclub.com/wp-content/uploads/2023/05/event-avon-v-warren-central.jpg
ORGANIZER;CN="Avon High School Coaching Staff":MAILTO:kjmcgrath@avon-schools.org
END:VEVENT
BEGIN:VEVENT
DTSTART;TZID=America/Indiana/Indianapolis:20230807T150000
DTEND;TZID=America/Indiana/Indianapolis:20230807T200000
DTSTAMP:20260421T115125
CREATED:20230715T231455Z
LAST-MODIFIED:20230805T191337Z
UID:10014-1691420400-1691438400@avonqbclub.com
SUMMARY:Team Pictures (Rescheduled)
DESCRIPTION:This is an approximate time … The picture schedule will be announced by the school once they’ve heard from the photographers.
URL:https://avonqbclub.com/event/2023-team-pictures/
LOCATION:Avon High School\, 7575 E Country Road 150 S\, Avon\, IN\, 46123\, United States
CATEGORIES:Freshman,Junior Varsity,Team Meeting,Varsity
ATTACH;FMTTYPE=image/jpeg:https://avonqbclub.com/wp-content/uploads/2023/04/2022-header-image-1-1-scaled.jpg
ORGANIZER;CN="Avon High School Coaching Staff":MAILTO:kjmcgrath@avon-schools.org
END:VEVENT
END:VCALENDAR