BEGIN:VCALENDAR
VERSION:2.0
PRODID:-//Avon Quarterback Club - ECPv6.15.20//NONSGML v1.0//EN
CALSCALE:GREGORIAN
METHOD:PUBLISH
X-WR-CALNAME:Avon Quarterback Club
X-ORIGINAL-URL:https://avonqbclub.com
X-WR-CALDESC:Events for Avon Quarterback Club
REFRESH-INTERVAL;VALUE=DURATION:PT1H
X-Robots-Tag:noindex
X-PUBLISHED-TTL:PT1H
BEGIN:VTIMEZONE
TZID:America/Indiana/Indianapolis
BEGIN:DAYLIGHT
TZOFFSETFROM:-0500
TZOFFSETTO:-0400
TZNAME:EDT
DTSTART:20230312T070000
END:DAYLIGHT
BEGIN:STANDARD
TZOFFSETFROM:-0400
TZOFFSETTO:-0500
TZNAME:EST
DTSTART:20231105T060000
END:STANDARD
BEGIN:DAYLIGHT
TZOFFSETFROM:-0500
TZOFFSETTO:-0400
TZNAME:EDT
DTSTART:20240310T070000
END:DAYLIGHT
BEGIN:STANDARD
TZOFFSETFROM:-0400
TZOFFSETTO:-0500
TZNAME:EST
DTSTART:20241103T060000
END:STANDARD
BEGIN:DAYLIGHT
TZOFFSETFROM:-0500
TZOFFSETTO:-0400
TZNAME:EDT
DTSTART:20250309T070000
END:DAYLIGHT
BEGIN:STANDARD
TZOFFSETFROM:-0400
TZOFFSETTO:-0500
TZNAME:EST
DTSTART:20251102T060000
END:STANDARD
BEGIN:DAYLIGHT
TZOFFSETFROM:-0500
TZOFFSETTO:-0400
TZNAME:EDT
DTSTART:20260308T070000
END:DAYLIGHT
BEGIN:STANDARD
TZOFFSETFROM:-0400
TZOFFSETTO:-0500
TZNAME:EST
DTSTART:20261101T060000
END:STANDARD
END:VTIMEZONE
BEGIN:VEVENT
DTSTART;TZID=America/Indiana/Indianapolis:20251107T190000
DTEND;TZID=America/Indiana/Indianapolis:20251107T220000
DTSTAMP:20260421T062536
CREATED:20251103T164355Z
LAST-MODIFIED:20251103T164355Z
UID:14106-1762542000-1762552800@avonqbclub.com
SUMMARY:Sectional Championship
DESCRIPTION:
URL:https://avonqbclub.com/event/2025-sectional-championship/
LOCATION:Brownsburg High School\, 1000 S Odell St\, Brownsburg\, IN\, 46112\, United States
CATEGORIES:Game,Varsity
ATTACH;FMTTYPE=image/png:https://avonqbclub.com/wp-content/uploads/2025/05/avon-v-brownsburg.png
ORGANIZER;CN="Avon High School Coaching Staff":MAILTO:kjmcgrath@avon-schools.org
END:VEVENT
BEGIN:VEVENT
DTSTART;TZID=America/Indiana/Indianapolis:20251031T190000
DTEND;TZID=America/Indiana/Indianapolis:20251031T220000
DTSTAMP:20260421T062536
CREATED:20250718T221842Z
LAST-MODIFIED:20251013T142049Z
UID:13624-1761937200-1761948000@avonqbclub.com
SUMMARY:Sectionals v. Ben Davis
DESCRIPTION:
URL:https://avonqbclub.com/event/sectionals-2025/
LOCATION:Avon High School\, 7575 E Country Road 150 S\, Avon\, IN\, 46123\, United States
CATEGORIES:Game,Varsity
ATTACH;FMTTYPE=image/png:https://avonqbclub.com/wp-content/uploads/2025/05/avon-v-bendavis.png
END:VEVENT
BEGIN:VEVENT
DTSTART;TZID=America/Indiana/Indianapolis:20251017T190000
DTEND;TZID=America/Indiana/Indianapolis:20251017T220000
DTSTAMP:20260421T062536
CREATED:20250718T221658Z
LAST-MODIFIED:20250718T221658Z
UID:13622-1760727600-1760738400@avonqbclub.com
SUMMARY:Avon Orioles v Noblesville
DESCRIPTION:
URL:https://avonqbclub.com/event/avon-orioles-v-noblesville-2025/
LOCATION:Avon High School\, 7575 E Country Road 150 S\, Avon\, IN\, 46123\, United States
CATEGORIES:Game,Varsity
ATTACH;FMTTYPE=image/png:https://avonqbclub.com/wp-content/uploads/2025/05/avon-v-noblesville.png
END:VEVENT
BEGIN:VEVENT
DTSTART;TZID=America/Indiana/Indianapolis:20251010T190000
DTEND;TZID=America/Indiana/Indianapolis:20251010T220000
DTSTAMP:20260421T062536
CREATED:20250718T221552Z
LAST-MODIFIED:20250718T221552Z
UID:13620-1760122800-1760133600@avonqbclub.com
SUMMARY:Avon Orioles @ Zionsville
DESCRIPTION:
URL:https://avonqbclub.com/event/avon-orioles-zionsville-2025/
LOCATION:Zionsville High School\, 1000 Mulberry St\, Zionsville\, IN\, 46077\, United States
CATEGORIES:Game,Varsity
ATTACH;FMTTYPE=image/png:https://avonqbclub.com/wp-content/uploads/2025/05/avon-v-zionsville.png
END:VEVENT
BEGIN:VEVENT
DTSTART;TZID=America/Indiana/Indianapolis:20251003T190000
DTEND;TZID=America/Indiana/Indianapolis:20251003T220000
DTSTAMP:20260421T062536
CREATED:20250718T221444Z
LAST-MODIFIED:20250718T221444Z
UID:13618-1759518000-1759528800@avonqbclub.com
SUMMARY:Avon Orioles v Westfield
DESCRIPTION:
URL:https://avonqbclub.com/event/avon-orioles-v-westfield-2025/
LOCATION:Avon High School\, 7575 E Country Road 150 S\, Avon\, IN\, 46123\, United States
CATEGORIES:Game,Varsity
ATTACH;FMTTYPE=image/png:https://avonqbclub.com/wp-content/uploads/2025/05/avon-v-westfield.png
END:VEVENT
BEGIN:VEVENT
DTSTART;TZID=America/Indiana/Indianapolis:20250926T190000
DTEND;TZID=America/Indiana/Indianapolis:20250926T220000
DTSTAMP:20260421T062536
CREATED:20250718T221329Z
LAST-MODIFIED:20250718T221329Z
UID:13616-1758913200-1758924000@avonqbclub.com
SUMMARY:Avon Orioles @ Fishers
DESCRIPTION:
URL:https://avonqbclub.com/event/avon-orioles-fishers-2025/
LOCATION:Fishers High School\, 13000 Promise Rd\, Fishers\, IN\, 46038\, United States
CATEGORIES:Game,Varsity
ATTACH;FMTTYPE=image/png:https://avonqbclub.com/wp-content/uploads/2025/05/avon-v-fishers.png
END:VEVENT
BEGIN:VEVENT
DTSTART;TZID=America/Indiana/Indianapolis:20250919T190000
DTEND;TZID=America/Indiana/Indianapolis:20250919T220000
DTSTAMP:20260421T062536
CREATED:20250718T221209Z
LAST-MODIFIED:20250718T221209Z
UID:13614-1758308400-1758319200@avonqbclub.com
SUMMARY:Avon Orioles v Franklin Central
DESCRIPTION:
URL:https://avonqbclub.com/event/avon-orioles-v-franklin-central-2025/
LOCATION:Avon High School\, 7575 E Country Road 150 S\, Avon\, IN\, 46123\, United States
CATEGORIES:Game,Varsity
ATTACH;FMTTYPE=image/png:https://avonqbclub.com/wp-content/uploads/2025/05/avon-v-fchs.png
END:VEVENT
BEGIN:VEVENT
DTSTART;TZID=America/Indiana/Indianapolis:20250912T190000
DTEND;TZID=America/Indiana/Indianapolis:20250912T220000
DTSTAMP:20260421T062536
CREATED:20250718T221053Z
LAST-MODIFIED:20250718T221109Z
UID:13612-1757703600-1757714400@avonqbclub.com
SUMMARY:Avon Orioles v Brownsburg
DESCRIPTION:
URL:https://avonqbclub.com/event/avon-orioles-v-brownsburg-2025/
LOCATION:Avon High School\, 7575 E Country Road 150 S\, Avon\, IN\, 46123\, United States
CATEGORIES:Game,Varsity
ATTACH;FMTTYPE=image/png:https://avonqbclub.com/wp-content/uploads/2025/05/avon-v-brownsburg.png
END:VEVENT
BEGIN:VEVENT
DTSTART;TZID=America/Indiana/Indianapolis:20250905T190000
DTEND;TZID=America/Indiana/Indianapolis:20250905T220000
DTSTAMP:20260421T062536
CREATED:20250718T221004Z
LAST-MODIFIED:20250718T221004Z
UID:13610-1757098800-1757109600@avonqbclub.com
SUMMARY:Avon Orioles @ HSE
DESCRIPTION:
URL:https://avonqbclub.com/event/avon-orioles-hse-2025/
LOCATION:Hamilton Southeastern High School\, 12499 Olio Rd\, Fishers\, IN\, 46037\, United States
CATEGORIES:Game,Varsity
ATTACH;FMTTYPE=image/png:https://avonqbclub.com/wp-content/uploads/2025/05/avon-v-hse.png
END:VEVENT
BEGIN:VEVENT
DTSTART;TZID=America/Indiana/Indianapolis:20250829T190000
DTEND;TZID=America/Indiana/Indianapolis:20250829T220000
DTSTAMP:20260421T062536
CREATED:20250718T215444Z
LAST-MODIFIED:20250718T215512Z
UID:13591-1756494000-1756504800@avonqbclub.com
SUMMARY:Avon Orioles @ Ben Davis
DESCRIPTION:
URL:https://avonqbclub.com/event/avon-orioles-ben-davis-2025/
LOCATION:Ben Davis High School\, 1200 N Girls School Rd\, Indianapolis\, IN\, 46214\, United States
CATEGORIES:Game,Varsity
ATTACH;FMTTYPE=image/png:https://avonqbclub.com/wp-content/uploads/2025/05/avon-v-bendavis.png
ORGANIZER;CN="Avon High School Coaching Staff":MAILTO:kjmcgrath@avon-schools.org
END:VEVENT
BEGIN:VEVENT
DTSTART;TZID=America/Indiana/Indianapolis:20250822T190000
DTEND;TZID=America/Indiana/Indianapolis:20250822T220000
DTSTAMP:20260421T062536
CREATED:20250502T005101Z
LAST-MODIFIED:20250502T011316Z
UID:12996-1755889200-1755900000@avonqbclub.com
SUMMARY:Avon Orioles v Decatur Hawks
DESCRIPTION:
URL:https://avonqbclub.com/event/avon-orioles-v-decatur-hawks-2025/
LOCATION:Avon High School\, 7575 E Country Road 150 S\, Avon\, IN\, 46123\, United States
CATEGORIES:Game,Varsity
ATTACH;FMTTYPE=image/png:https://avonqbclub.com/wp-content/uploads/2025/05/avon-v-decatur-1.png
ORGANIZER;CN="Avon High School Coaching Staff":MAILTO:kjmcgrath@avon-schools.org
END:VEVENT
BEGIN:VEVENT
DTSTART;TZID=America/Indiana/Indianapolis:20250815T190000
DTEND;TZID=America/Indiana/Indianapolis:20250815T220000
DTSTAMP:20260421T062536
CREATED:20250520T013910Z
LAST-MODIFIED:20250520T013910Z
UID:13080-1755284400-1755295200@avonqbclub.com
SUMMARY:Week 0: Scrimmage @Warren Central
DESCRIPTION:
URL:https://avonqbclub.com/event/2025-week-0-scrimmage-warren-central/
LOCATION:Warren Central High School\, 9500 E 16th St\, Indianapolis\, IN\, 46229\, United States
CATEGORIES:Scrimmage,Varsity
ATTACH;FMTTYPE=image/png:https://avonqbclub.com/wp-content/uploads/2025/05/avon-v-warren.png
ORGANIZER;CN="Avon High School Coaching Staff":MAILTO:kjmcgrath@avon-schools.org
END:VEVENT
BEGIN:VEVENT
DTSTART;TZID=America/Indiana/Indianapolis:20241101T190000
DTEND;TZID=America/Indiana/Indianapolis:20241101T220000
DTSTAMP:20260421T062536
CREATED:20240725T171206Z
LAST-MODIFIED:20241014T163810Z
UID:11779-1730487600-1730498400@avonqbclub.com
SUMMARY:Sectionals Semi-Final v Brownsburg
DESCRIPTION:
URL:https://avonqbclub.com/event/sectionals-semi-final-game-1-2024/
LOCATION:Avon High School\, 7575 E Country Road 150 S\, Avon\, IN\, 46123\, United States
CATEGORIES:Game,Varsity
ORGANIZER;CN="Avon High School Coaching Staff":MAILTO:kjmcgrath@avon-schools.org
END:VEVENT
BEGIN:VEVENT
DTSTART;TZID=America/Indiana/Indianapolis:20241018T190000
DTEND;TZID=America/Indiana/Indianapolis:20241018T220000
DTSTAMP:20260421T062536
CREATED:20240422T142534Z
LAST-MODIFIED:20240422T142534Z
UID:11516-1729278000-1729288800@avonqbclub.com
SUMMARY:Game @Noblesville
DESCRIPTION:
URL:https://avonqbclub.com/event/2024-game-noblesville/
LOCATION:Noblesville High School\, 18111 Cumberland Rd\, Noblesville\, IN\, 46060\, United States
CATEGORIES:Game,Varsity
ORGANIZER;CN="Avon High School Coaching Staff":MAILTO:kjmcgrath@avon-schools.org
END:VEVENT
BEGIN:VEVENT
DTSTART;TZID=America/Indiana/Indianapolis:20241017T170000
DTEND;TZID=America/Indiana/Indianapolis:20241017T190000
DTSTAMP:20260421T062536
CREATED:20240712T225259Z
LAST-MODIFIED:20240813T040005Z
UID:11658-1729184400-1729191600@avonqbclub.com
SUMMARY:TNT Dinner (Breakfast)
DESCRIPTION:
URL:https://avonqbclub.com/event/tnt-dinner-2024-10-17/
LOCATION:Avon High School\, 7575 E Country Road 150 S\, Avon\, IN\, 46123\, United States
CATEGORIES:Junior,Junior Varsity,Senior,Sophomore,Team Dinner,Varsity
ATTACH;FMTTYPE=image/jpeg:https://avonqbclub.com/wp-content/uploads/2024/07/2023-09-14-17.45.37-scaled.jpg
ORGANIZER;CN="Avon Quarterback Club":MAILTO:avonquarterbackclub@gmail.com
END:VEVENT
BEGIN:VEVENT
DTSTART;TZID=America/Indiana/Indianapolis:20241011T190000
DTEND;TZID=America/Indiana/Indianapolis:20241011T220000
DTSTAMP:20260421T062536
CREATED:20240422T142440Z
LAST-MODIFIED:20240422T142440Z
UID:11514-1728673200-1728684000@avonqbclub.com
SUMMARY:Game v. Zionsville
DESCRIPTION:
URL:https://avonqbclub.com/event/2024-game-v-zionsville/
LOCATION:Avon High School\, 7575 E Country Road 150 S\, Avon\, IN\, 46123\, United States
CATEGORIES:Game,Varsity
ORGANIZER;CN="Avon High School Coaching Staff":MAILTO:kjmcgrath@avon-schools.org
END:VEVENT
BEGIN:VEVENT
DTSTART;TZID=America/Indiana/Indianapolis:20241010T173000
DTEND;TZID=America/Indiana/Indianapolis:20241010T190000
DTSTAMP:20260421T062536
CREATED:20240712T225144Z
LAST-MODIFIED:20240825T011821Z
UID:11656-1728581400-1728586800@avonqbclub.com
SUMMARY:TNT Dinner (Tailgate/Concession)
DESCRIPTION:
URL:https://avonqbclub.com/event/tnt-dinner-2024-10-10/
LOCATION:Avon High School\, 7575 E Country Road 150 S\, Avon\, IN\, 46123\, United States
CATEGORIES:Junior,Junior Varsity,Senior,Sophomore,Team Dinner,Varsity
ATTACH;FMTTYPE=image/jpeg:https://avonqbclub.com/wp-content/uploads/2024/07/2023-09-14-17.49.27-scaled-e1730934226517.jpg
ORGANIZER;CN="Avon Quarterback Club":MAILTO:avonquarterbackclub@gmail.com
END:VEVENT
BEGIN:VEVENT
DTSTART;TZID=America/Indiana/Indianapolis:20241004T190000
DTEND;TZID=America/Indiana/Indianapolis:20241004T220000
DTSTAMP:20260421T062536
CREATED:20240422T142318Z
LAST-MODIFIED:20240422T142318Z
UID:11512-1728068400-1728079200@avonqbclub.com
SUMMARY:Game @Westfield
DESCRIPTION:
URL:https://avonqbclub.com/event/2024-game-westfield/
LOCATION:Westfield High School\, 18250 N Union St\, Westfield\, IN\, 46074\, United States
CATEGORIES:Game,Varsity
ORGANIZER;CN="Avon High School Coaching Staff":MAILTO:kjmcgrath@avon-schools.org
END:VEVENT
BEGIN:VEVENT
DTSTART;TZID=America/Indiana/Indianapolis:20241003T173000
DTEND;TZID=America/Indiana/Indianapolis:20241003T190000
DTSTAMP:20260421T062536
CREATED:20240712T225019Z
LAST-MODIFIED:20240725T170558Z
UID:11654-1727976600-1727982000@avonqbclub.com
SUMMARY:TNT Dinner (Chick-fil-A)
DESCRIPTION:
URL:https://avonqbclub.com/event/tnt-dinner-2024-10-03/
LOCATION:Avon High School\, 7575 E Country Road 150 S\, Avon\, IN\, 46123\, United States
CATEGORIES:Junior,Junior Varsity,Senior,Sophomore,Team Dinner,Varsity
ATTACH;FMTTYPE=image/jpeg:https://avonqbclub.com/wp-content/uploads/2024/07/2023-09-14-18.01.51-scaled-e1730932813821.jpg
ORGANIZER;CN="Avon Quarterback Club":MAILTO:avonquarterbackclub@gmail.com
END:VEVENT
BEGIN:VEVENT
DTSTART;TZID=America/Indiana/Indianapolis:20240927T190000
DTEND;TZID=America/Indiana/Indianapolis:20240927T220000
DTSTAMP:20260421T062536
CREATED:20240422T142130Z
LAST-MODIFIED:20240422T142130Z
UID:11510-1727463600-1727474400@avonqbclub.com
SUMMARY:Game v. Fishers
DESCRIPTION:
URL:https://avonqbclub.com/event/2024-game-v-fishers/
LOCATION:Avon High School\, 7575 E Country Road 150 S\, Avon\, IN\, 46123\, United States
CATEGORIES:Game,Varsity
ORGANIZER;CN="Avon High School Coaching Staff":MAILTO:kjmcgrath@avon-schools.org
END:VEVENT
BEGIN:VEVENT
DTSTART;TZID=America/Indiana/Indianapolis:20240926T173000
DTEND;TZID=America/Indiana/Indianapolis:20240926T190000
DTSTAMP:20260421T062536
CREATED:20240712T224857Z
LAST-MODIFIED:20240813T035858Z
UID:11652-1727371800-1727377200@avonqbclub.com
SUMMARY:TNT Dinner (Philly Steak)
DESCRIPTION:
URL:https://avonqbclub.com/event/tnt-dinner-2024-09-26/
LOCATION:Avon High School\, 7575 E Country Road 150 S\, Avon\, IN\, 46123\, United States
CATEGORIES:Junior,Junior Varsity,Senior,Sophomore,Team Dinner,Varsity
ATTACH;FMTTYPE=image/jpeg:https://avonqbclub.com/wp-content/uploads/2024/07/2023-09-14-18.09.17-scaled.jpg
ORGANIZER;CN="Avon Quarterback Club":MAILTO:avonquarterbackclub@gmail.com
END:VEVENT
BEGIN:VEVENT
DTSTART;TZID=America/Indiana/Indianapolis:20240920T190000
DTEND;TZID=America/Indiana/Indianapolis:20240920T220000
DTSTAMP:20260421T062536
CREATED:20240422T141935Z
LAST-MODIFIED:20240422T141936Z
UID:11508-1726858800-1726869600@avonqbclub.com
SUMMARY:Game @Franklin Central
DESCRIPTION:
URL:https://avonqbclub.com/event/2024-game-franklin-central/
LOCATION:Franklin Central High School\, 6215 S Franklin Rd\, Indianapolis\, IN\, 46259\, United States
CATEGORIES:Game,Varsity
ORGANIZER;CN="Avon High School Coaching Staff":MAILTO:kjmcgrath@avon-schools.org
END:VEVENT
BEGIN:VEVENT
DTSTART;TZID=America/Indiana/Indianapolis:20240919T173000
DTEND;TZID=America/Indiana/Indianapolis:20240919T190000
DTSTAMP:20260421T062536
CREATED:20240712T224720Z
LAST-MODIFIED:20240813T035832Z
UID:11650-1726767000-1726772400@avonqbclub.com
SUMMARY:TNT Dinner (Potato Bar/Chicken)
DESCRIPTION:
URL:https://avonqbclub.com/event/tnt-dinner-2024-09-19/
LOCATION:Avon High School\, 7575 E Country Road 150 S\, Avon\, IN\, 46123\, United States
CATEGORIES:Junior,Junior Varsity,Senior,Sophomore,Team Dinner,Varsity
ATTACH;FMTTYPE=image/jpeg:https://avonqbclub.com/wp-content/uploads/2024/07/2023-09-14-17.44.20-scaled-e1730933904446.jpg
ORGANIZER;CN="Avon Quarterback Club":MAILTO:avonquarterbackclub@gmail.com
END:VEVENT
BEGIN:VEVENT
DTSTART;TZID=America/Indiana/Indianapolis:20240913T190000
DTEND;TZID=America/Indiana/Indianapolis:20240913T220000
DTSTAMP:20260421T062536
CREATED:20240422T141741Z
LAST-MODIFIED:20240422T141742Z
UID:11506-1726254000-1726264800@avonqbclub.com
SUMMARY:Game @Brownsburg
DESCRIPTION:
URL:https://avonqbclub.com/event/2024-game-brownsburg/
LOCATION:Brownsburg High School\, 1000 S Odell St\, Brownsburg\, IN\, 46112\, United States
CATEGORIES:Game,Varsity
ORGANIZER;CN="Avon High School Coaching Staff":MAILTO:kjmcgrath@avon-schools.org
END:VEVENT
BEGIN:VEVENT
DTSTART;TZID=America/Indiana/Indianapolis:20240912T173000
DTEND;TZID=America/Indiana/Indianapolis:20240912T190000
DTSTAMP:20260421T062536
CREATED:20240712T224447Z
LAST-MODIFIED:20240813T035747Z
UID:11648-1726162200-1726167600@avonqbclub.com
SUMMARY:TNT Dinner (BBQ)
DESCRIPTION:
URL:https://avonqbclub.com/event/tnt-dinner-2024-09-12/
LOCATION:Avon High School\, 7575 E Country Road 150 S\, Avon\, IN\, 46123\, United States
CATEGORIES:Junior,Junior Varsity,Senior,Sophomore,Team Dinner,Varsity
ATTACH;FMTTYPE=image/jpeg:https://avonqbclub.com/wp-content/uploads/2024/07/2023-09-14-17.45.37-scaled.jpg
ORGANIZER;CN="Avon Quarterback Club":MAILTO:avonquarterbackclub@gmail.com
END:VEVENT
BEGIN:VEVENT
DTSTART;TZID=America/Indiana/Indianapolis:20240906T190000
DTEND;TZID=America/Indiana/Indianapolis:20240906T220000
DTSTAMP:20260421T062536
CREATED:20240422T141646Z
LAST-MODIFIED:20240422T141646Z
UID:11504-1725649200-1725660000@avonqbclub.com
SUMMARY:Game v. Hamilton SE
DESCRIPTION:
URL:https://avonqbclub.com/event/2024-game-v-hamilton-se/
LOCATION:Avon High School\, 7575 E Country Road 150 S\, Avon\, IN\, 46123\, United States
CATEGORIES:Game,Varsity
ORGANIZER;CN="Avon High School Coaching Staff":MAILTO:kjmcgrath@avon-schools.org
END:VEVENT
BEGIN:VEVENT
DTSTART;TZID=America/Indiana/Indianapolis:20240905T173000
DTEND;TZID=America/Indiana/Indianapolis:20240905T190000
DTSTAMP:20260421T062536
CREATED:20240712T224205Z
LAST-MODIFIED:20240813T035642Z
UID:11645-1725557400-1725562800@avonqbclub.com
SUMMARY:TNT Dinner (Mexican) (Senior Night)
DESCRIPTION:
URL:https://avonqbclub.com/event/tnt-dinner-2024-09-05/
LOCATION:Avon High School\, 7575 E Country Road 150 S\, Avon\, IN\, 46123\, United States
CATEGORIES:Junior,Junior Varsity,Senior,Sophomore,Team Dinner,Varsity
ATTACH;FMTTYPE=image/jpeg:https://avonqbclub.com/wp-content/uploads/2024/07/2023-09-14-17.49.27-scaled-e1730934226517.jpg
ORGANIZER;CN="Avon High School Coaching Staff":MAILTO:kjmcgrath@avon-schools.org
END:VEVENT
BEGIN:VEVENT
DTSTART;TZID=America/Indiana/Indianapolis:20240830T190000
DTEND;TZID=America/Indiana/Indianapolis:20240830T220000
DTSTAMP:20260421T062536
CREATED:20240422T141118Z
LAST-MODIFIED:20240422T141119Z
UID:11500-1725044400-1725055200@avonqbclub.com
SUMMARY:Game v. Ben Davis
DESCRIPTION:
URL:https://avonqbclub.com/event/2024-game-v-ben-davis/
LOCATION:Avon High School\, 7575 E Country Road 150 S\, Avon\, IN\, 46123\, United States
CATEGORIES:Game,Varsity
ORGANIZER;CN="Avon High School Coaching Staff":MAILTO:kjmcgrath@avon-schools.org
END:VEVENT
BEGIN:VEVENT
DTSTART;TZID=America/Indiana/Indianapolis:20240829T173000
DTEND;TZID=America/Indiana/Indianapolis:20240829T190000
DTSTAMP:20260421T062536
CREATED:20240712T224021Z
LAST-MODIFIED:20240825T011655Z
UID:11643-1724952600-1724958000@avonqbclub.com
SUMMARY:TNT Dinner (Sliders)
DESCRIPTION:
URL:https://avonqbclub.com/event/tnt-dinner-2024-08-29/
LOCATION:Avon High School\, 7575 E Country Road 150 S\, Avon\, IN\, 46123\, United States
CATEGORIES:Junior,Junior Varsity,Senior,Sophomore,Team Dinner,Varsity
ATTACH;FMTTYPE=image/jpeg:https://avonqbclub.com/wp-content/uploads/2024/07/2023-09-14-18.01.51-scaled-e1730932813821.jpg
ORGANIZER;CN="Avon Quarterback Club":MAILTO:avonquarterbackclub@gmail.com
END:VEVENT
BEGIN:VEVENT
DTSTART;TZID=America/Indiana/Indianapolis:20240823T190000
DTEND;TZID=America/Indiana/Indianapolis:20240823T220000
DTSTAMP:20260421T062536
CREATED:20240422T141004Z
LAST-MODIFIED:20240422T141155Z
UID:11497-1724439600-1724450400@avonqbclub.com
SUMMARY:Game @Lafayette Jefferson
DESCRIPTION:
URL:https://avonqbclub.com/event/2024-game-lafayette-jefferson/
LOCATION:Jefferson High School\, 1801 S 18th St\, Lafayette\, IN\, 47905\, United States
CATEGORIES:Game,Varsity
ORGANIZER;CN="Avon High School Coaching Staff":MAILTO:kjmcgrath@avon-schools.org
END:VEVENT
END:VCALENDAR