BEGIN:VCALENDAR
VERSION:2.0
PRODID:-//Avon Quarterback Club - ECPv6.15.20//NONSGML v1.0//EN
CALSCALE:GREGORIAN
METHOD:PUBLISH
X-WR-CALNAME:Avon Quarterback Club
X-ORIGINAL-URL:https://avonqbclub.com
X-WR-CALDESC:Events for Avon Quarterback Club
REFRESH-INTERVAL;VALUE=DURATION:PT1H
X-Robots-Tag:noindex
X-PUBLISHED-TTL:PT1H
BEGIN:VTIMEZONE
TZID:America/Indiana/Indianapolis
BEGIN:DAYLIGHT
TZOFFSETFROM:-0500
TZOFFSETTO:-0400
TZNAME:EDT
DTSTART:20220313T070000
END:DAYLIGHT
BEGIN:STANDARD
TZOFFSETFROM:-0400
TZOFFSETTO:-0500
TZNAME:EST
DTSTART:20221106T060000
END:STANDARD
BEGIN:DAYLIGHT
TZOFFSETFROM:-0500
TZOFFSETTO:-0400
TZNAME:EDT
DTSTART:20230312T070000
END:DAYLIGHT
BEGIN:STANDARD
TZOFFSETFROM:-0400
TZOFFSETTO:-0500
TZNAME:EST
DTSTART:20231105T060000
END:STANDARD
BEGIN:DAYLIGHT
TZOFFSETFROM:-0500
TZOFFSETTO:-0400
TZNAME:EDT
DTSTART:20240310T070000
END:DAYLIGHT
BEGIN:STANDARD
TZOFFSETFROM:-0400
TZOFFSETTO:-0500
TZNAME:EST
DTSTART:20241103T060000
END:STANDARD
BEGIN:DAYLIGHT
TZOFFSETFROM:-0500
TZOFFSETTO:-0400
TZNAME:EDT
DTSTART:20250309T070000
END:DAYLIGHT
BEGIN:STANDARD
TZOFFSETFROM:-0400
TZOFFSETTO:-0500
TZNAME:EST
DTSTART:20251102T060000
END:STANDARD
END:VTIMEZONE
BEGIN:VEVENT
DTSTART;TZID=America/Indiana/Indianapolis:20241017T170000
DTEND;TZID=America/Indiana/Indianapolis:20241017T190000
DTSTAMP:20260424T194449
CREATED:20240712T225259Z
LAST-MODIFIED:20240813T040005Z
UID:11658-1729184400-1729191600@avonqbclub.com
SUMMARY:TNT Dinner (Breakfast)
DESCRIPTION:
URL:https://avonqbclub.com/event/tnt-dinner-2024-10-17/
LOCATION:Avon High School\, 7575 E Country Road 150 S\, Avon\, IN\, 46123\, United States
CATEGORIES:Junior,Junior Varsity,Senior,Sophomore,Team Dinner,Varsity
ATTACH;FMTTYPE=image/jpeg:https://avonqbclub.com/wp-content/uploads/2024/07/2023-09-14-17.45.37-scaled.jpg
ORGANIZER;CN="Avon Quarterback Club":MAILTO:avonquarterbackclub@gmail.com
END:VEVENT
BEGIN:VEVENT
DTSTART;TZID=America/Indiana/Indianapolis:20241010T173000
DTEND;TZID=America/Indiana/Indianapolis:20241010T190000
DTSTAMP:20260424T194449
CREATED:20240712T225144Z
LAST-MODIFIED:20240825T011821Z
UID:11656-1728581400-1728586800@avonqbclub.com
SUMMARY:TNT Dinner (Tailgate/Concession)
DESCRIPTION:
URL:https://avonqbclub.com/event/tnt-dinner-2024-10-10/
LOCATION:Avon High School\, 7575 E Country Road 150 S\, Avon\, IN\, 46123\, United States
CATEGORIES:Junior,Junior Varsity,Senior,Sophomore,Team Dinner,Varsity
ATTACH;FMTTYPE=image/jpeg:https://avonqbclub.com/wp-content/uploads/2024/07/2023-09-14-17.49.27-scaled-e1730934226517.jpg
ORGANIZER;CN="Avon Quarterback Club":MAILTO:avonquarterbackclub@gmail.com
END:VEVENT
BEGIN:VEVENT
DTSTART;TZID=America/Indiana/Indianapolis:20241003T173000
DTEND;TZID=America/Indiana/Indianapolis:20241003T190000
DTSTAMP:20260424T194449
CREATED:20240712T225019Z
LAST-MODIFIED:20240725T170558Z
UID:11654-1727976600-1727982000@avonqbclub.com
SUMMARY:TNT Dinner (Chick-fil-A)
DESCRIPTION:
URL:https://avonqbclub.com/event/tnt-dinner-2024-10-03/
LOCATION:Avon High School\, 7575 E Country Road 150 S\, Avon\, IN\, 46123\, United States
CATEGORIES:Junior,Junior Varsity,Senior,Sophomore,Team Dinner,Varsity
ATTACH;FMTTYPE=image/jpeg:https://avonqbclub.com/wp-content/uploads/2024/07/2023-09-14-18.01.51-scaled-e1730932813821.jpg
ORGANIZER;CN="Avon Quarterback Club":MAILTO:avonquarterbackclub@gmail.com
END:VEVENT
BEGIN:VEVENT
DTSTART;TZID=America/Indiana/Indianapolis:20240926T173000
DTEND;TZID=America/Indiana/Indianapolis:20240926T190000
DTSTAMP:20260424T194449
CREATED:20240712T224857Z
LAST-MODIFIED:20240813T035858Z
UID:11652-1727371800-1727377200@avonqbclub.com
SUMMARY:TNT Dinner (Philly Steak)
DESCRIPTION:
URL:https://avonqbclub.com/event/tnt-dinner-2024-09-26/
LOCATION:Avon High School\, 7575 E Country Road 150 S\, Avon\, IN\, 46123\, United States
CATEGORIES:Junior,Junior Varsity,Senior,Sophomore,Team Dinner,Varsity
ATTACH;FMTTYPE=image/jpeg:https://avonqbclub.com/wp-content/uploads/2024/07/2023-09-14-18.09.17-scaled.jpg
ORGANIZER;CN="Avon Quarterback Club":MAILTO:avonquarterbackclub@gmail.com
END:VEVENT
BEGIN:VEVENT
DTSTART;TZID=America/Indiana/Indianapolis:20240919T173000
DTEND;TZID=America/Indiana/Indianapolis:20240919T190000
DTSTAMP:20260424T194449
CREATED:20240712T224720Z
LAST-MODIFIED:20240813T035832Z
UID:11650-1726767000-1726772400@avonqbclub.com
SUMMARY:TNT Dinner (Potato Bar/Chicken)
DESCRIPTION:
URL:https://avonqbclub.com/event/tnt-dinner-2024-09-19/
LOCATION:Avon High School\, 7575 E Country Road 150 S\, Avon\, IN\, 46123\, United States
CATEGORIES:Junior,Junior Varsity,Senior,Sophomore,Team Dinner,Varsity
ATTACH;FMTTYPE=image/jpeg:https://avonqbclub.com/wp-content/uploads/2024/07/2023-09-14-17.44.20-scaled-e1730933904446.jpg
ORGANIZER;CN="Avon Quarterback Club":MAILTO:avonquarterbackclub@gmail.com
END:VEVENT
BEGIN:VEVENT
DTSTART;TZID=America/Indiana/Indianapolis:20240912T173000
DTEND;TZID=America/Indiana/Indianapolis:20240912T190000
DTSTAMP:20260424T194449
CREATED:20240712T224447Z
LAST-MODIFIED:20240813T035747Z
UID:11648-1726162200-1726167600@avonqbclub.com
SUMMARY:TNT Dinner (BBQ)
DESCRIPTION:
URL:https://avonqbclub.com/event/tnt-dinner-2024-09-12/
LOCATION:Avon High School\, 7575 E Country Road 150 S\, Avon\, IN\, 46123\, United States
CATEGORIES:Junior,Junior Varsity,Senior,Sophomore,Team Dinner,Varsity
ATTACH;FMTTYPE=image/jpeg:https://avonqbclub.com/wp-content/uploads/2024/07/2023-09-14-17.45.37-scaled.jpg
ORGANIZER;CN="Avon Quarterback Club":MAILTO:avonquarterbackclub@gmail.com
END:VEVENT
BEGIN:VEVENT
DTSTART;TZID=America/Indiana/Indianapolis:20240905T173000
DTEND;TZID=America/Indiana/Indianapolis:20240905T190000
DTSTAMP:20260424T194449
CREATED:20240712T224205Z
LAST-MODIFIED:20240813T035642Z
UID:11645-1725557400-1725562800@avonqbclub.com
SUMMARY:TNT Dinner (Mexican) (Senior Night)
DESCRIPTION:
URL:https://avonqbclub.com/event/tnt-dinner-2024-09-05/
LOCATION:Avon High School\, 7575 E Country Road 150 S\, Avon\, IN\, 46123\, United States
CATEGORIES:Junior,Junior Varsity,Senior,Sophomore,Team Dinner,Varsity
ATTACH;FMTTYPE=image/jpeg:https://avonqbclub.com/wp-content/uploads/2024/07/2023-09-14-17.49.27-scaled-e1730934226517.jpg
ORGANIZER;CN="Avon High School Coaching Staff":MAILTO:kjmcgrath@avon-schools.org
END:VEVENT
BEGIN:VEVENT
DTSTART;TZID=America/Indiana/Indianapolis:20240830T173000
DTEND;TZID=America/Indiana/Indianapolis:20240830T190000
DTSTAMP:20260424T194449
CREATED:20240422T134804Z
LAST-MODIFIED:20240725T164820Z
UID:11495-1725039000-1725044400@avonqbclub.com
SUMMARY:Season Opener Tailgate
DESCRIPTION:Hosted by the Freshman Parents \n 
URL:https://avonqbclub.com/event/season-opener-tailgate-2024/
LOCATION:Avon High School\, 7575 E Country Road 150 S\, Avon\, IN\, 46123\, United States
CATEGORIES:Freshman,Team Dinner
END:VEVENT
BEGIN:VEVENT
DTSTART;TZID=America/Indiana/Indianapolis:20240829T173000
DTEND;TZID=America/Indiana/Indianapolis:20240829T190000
DTSTAMP:20260424T194449
CREATED:20240712T224021Z
LAST-MODIFIED:20240825T011655Z
UID:11643-1724952600-1724958000@avonqbclub.com
SUMMARY:TNT Dinner (Sliders)
DESCRIPTION:
URL:https://avonqbclub.com/event/tnt-dinner-2024-08-29/
LOCATION:Avon High School\, 7575 E Country Road 150 S\, Avon\, IN\, 46123\, United States
CATEGORIES:Junior,Junior Varsity,Senior,Sophomore,Team Dinner,Varsity
ATTACH;FMTTYPE=image/jpeg:https://avonqbclub.com/wp-content/uploads/2024/07/2023-09-14-18.01.51-scaled-e1730932813821.jpg
ORGANIZER;CN="Avon Quarterback Club":MAILTO:avonquarterbackclub@gmail.com
END:VEVENT
BEGIN:VEVENT
DTSTART;TZID=America/Indiana/Indianapolis:20240822T173000
DTEND;TZID=America/Indiana/Indianapolis:20240822T190000
DTSTAMP:20260424T194449
CREATED:20240712T221825Z
LAST-MODIFIED:20240725T164224Z
UID:11636-1724347800-1724353200@avonqbclub.com
SUMMARY:TNT Dinner (Pasta)
DESCRIPTION:
URL:https://avonqbclub.com/event/tnt-dinner-2024-08-22/
LOCATION:Avon High School\, 7575 E Country Road 150 S\, Avon\, IN\, 46123\, United States
CATEGORIES:Junior,Junior Varsity,Senior,Sophomore,Team Dinner,Varsity
ATTACH;FMTTYPE=image/jpeg:https://avonqbclub.com/wp-content/uploads/2024/07/2023-09-14-18.09.17-scaled.jpg
ORGANIZER;CN="Avon High School Coaching Staff":MAILTO:kjmcgrath@avon-schools.org
END:VEVENT
BEGIN:VEVENT
DTSTART;TZID=America/Indiana/Indianapolis:20231026T173000
DTEND;TZID=America/Indiana/Indianapolis:20231026T183000
DTSTAMP:20260424T194449
CREATED:20230720T231732Z
LAST-MODIFIED:20230720T231732Z
UID:10081-1698341400-1698345000@avonqbclub.com
SUMMARY:Thursday Night Dinner
DESCRIPTION:>> Information about Thursday Night Dinners
URL:https://avonqbclub.com/event/2023-10-26-thursday-night-dinner/
LOCATION:Avon High School\, 7575 E Country Road 150 S\, Avon\, IN\, 46123\, United States
CATEGORIES:Junior,Senior,Sophomore,Team Dinner
ATTACH;FMTTYPE=image/jpeg:https://avonqbclub.com/wp-content/uploads/2023/04/2023-team-meal.jpg
ORGANIZER;CN="Avon Quarterback Club":MAILTO:avonquarterbackclub@gmail.com
END:VEVENT
BEGIN:VEVENT
DTSTART;TZID=America/Indiana/Indianapolis:20231012T173000
DTEND;TZID=America/Indiana/Indianapolis:20231012T183000
DTSTAMP:20260424T194449
CREATED:20230720T231013Z
LAST-MODIFIED:20230720T231013Z
UID:10077-1697131800-1697135400@avonqbclub.com
SUMMARY:Thursday Night Dinner
DESCRIPTION:>> Information about Thursday Night Dinners
URL:https://avonqbclub.com/event/2023-10-12-thursday-night-dinner/
LOCATION:Avon High School\, 7575 E Country Road 150 S\, Avon\, IN\, 46123\, United States
CATEGORIES:Junior,Senior,Sophomore,Team Dinner
ATTACH;FMTTYPE=image/jpeg:https://avonqbclub.com/wp-content/uploads/2023/04/2023-team-meal.jpg
ORGANIZER;CN="Avon Quarterback Club":MAILTO:avonquarterbackclub@gmail.com
END:VEVENT
BEGIN:VEVENT
DTSTART;TZID=America/Indiana/Indianapolis:20231005T173000
DTEND;TZID=America/Indiana/Indianapolis:20231005T183000
DTSTAMP:20260424T194449
CREATED:20230720T230701Z
LAST-MODIFIED:20230720T230701Z
UID:10075-1696527000-1696530600@avonqbclub.com
SUMMARY:Thursday Night Dinner
DESCRIPTION:>> Information about Thursday Night Dinners
URL:https://avonqbclub.com/event/2023-10-05-thursday-night-dinner/
LOCATION:Avon High School\, 7575 E Country Road 150 S\, Avon\, IN\, 46123\, United States
CATEGORIES:Junior,Senior,Sophomore,Team Dinner
ATTACH;FMTTYPE=image/jpeg:https://avonqbclub.com/wp-content/uploads/2023/04/2023-team-meal.jpg
ORGANIZER;CN="Avon Quarterback Club":MAILTO:avonquarterbackclub@gmail.com
END:VEVENT
BEGIN:VEVENT
DTSTART;TZID=America/Indiana/Indianapolis:20230921T173000
DTEND;TZID=America/Indiana/Indianapolis:20230921T183000
DTSTAMP:20260424T194449
CREATED:20230720T230021Z
LAST-MODIFIED:20230720T230021Z
UID:10071-1695317400-1695321000@avonqbclub.com
SUMMARY:Thursday Night Dinner
DESCRIPTION:>> Information about Thursday Night Dinners
URL:https://avonqbclub.com/event/2023-09-21-thursday-night-dinner/
LOCATION:Avon High School\, 7575 E Country Road 150 S\, Avon\, IN\, 46123\, United States
CATEGORIES:Junior,Senior,Sophomore,Team Dinner
ATTACH;FMTTYPE=image/jpeg:https://avonqbclub.com/wp-content/uploads/2023/04/2023-team-meal.jpg
ORGANIZER;CN="Avon Quarterback Club":MAILTO:avonquarterbackclub@gmail.com
END:VEVENT
BEGIN:VEVENT
DTSTART;TZID=America/Indiana/Indianapolis:20230914T173000
DTEND;TZID=America/Indiana/Indianapolis:20230914T183000
DTSTAMP:20260424T194449
CREATED:20230720T225751Z
LAST-MODIFIED:20230720T225752Z
UID:10069-1694712600-1694716200@avonqbclub.com
SUMMARY:Thursday Night Dinner
DESCRIPTION:>> Information about Thursday Night Dinners
URL:https://avonqbclub.com/event/2023-09-14-thursday-night-dinner/
LOCATION:Avon High School\, 7575 E Country Road 150 S\, Avon\, IN\, 46123\, United States
CATEGORIES:Junior,Senior,Sophomore,Team Dinner
ATTACH;FMTTYPE=image/jpeg:https://avonqbclub.com/wp-content/uploads/2023/04/2023-team-meal.jpg
ORGANIZER;CN="Avon Quarterback Club":MAILTO:avonquarterbackclub@gmail.com
END:VEVENT
BEGIN:VEVENT
DTSTART;TZID=America/Indiana/Indianapolis:20230907T173000
DTEND;TZID=America/Indiana/Indianapolis:20230907T183000
DTSTAMP:20260424T194449
CREATED:20230720T225525Z
LAST-MODIFIED:20230720T225525Z
UID:10067-1694107800-1694111400@avonqbclub.com
SUMMARY:Thursday Night Dinner
DESCRIPTION:>> Information about Thursday Night Dinners
URL:https://avonqbclub.com/event/2023-09-07-thursday-night-dinner/
LOCATION:Avon High School\, 7575 E Country Road 150 S\, Avon\, IN\, 46123\, United States
CATEGORIES:Junior,Senior,Sophomore,Team Dinner
ATTACH;FMTTYPE=image/jpeg:https://avonqbclub.com/wp-content/uploads/2023/04/2023-team-meal.jpg
ORGANIZER;CN="Avon Quarterback Club":MAILTO:avonquarterbackclub@gmail.com
END:VEVENT
BEGIN:VEVENT
DTSTART;TZID=America/Indiana/Indianapolis:20230831T173000
DTEND;TZID=America/Indiana/Indianapolis:20230831T183000
DTSTAMP:20260424T194449
CREATED:20230720T225259Z
LAST-MODIFIED:20230720T225259Z
UID:10065-1693503000-1693506600@avonqbclub.com
SUMMARY:Thursday Night Dinner
DESCRIPTION:>> Information about Thursday Night Dinners
URL:https://avonqbclub.com/event/2023-08-31-thursday-night-dinner/
LOCATION:Avon High School\, 7575 E Country Road 150 S\, Avon\, IN\, 46123\, United States
CATEGORIES:Junior,Senior,Sophomore,Team Dinner
ATTACH;FMTTYPE=image/jpeg:https://avonqbclub.com/wp-content/uploads/2023/04/2023-team-meal.jpg
ORGANIZER;CN="Avon Quarterback Club":MAILTO:avonquarterbackclub@gmail.com
END:VEVENT
BEGIN:VEVENT
DTSTART;TZID=America/Indiana/Indianapolis:20230824T173000
DTEND;TZID=America/Indiana/Indianapolis:20230824T183000
DTSTAMP:20260424T194449
CREATED:20230720T224305Z
LAST-MODIFIED:20230720T224335Z
UID:10063-1692898200-1692901800@avonqbclub.com
SUMMARY:Thursday Night Dinner
DESCRIPTION:>> Information about Thursday Night Dinners
URL:https://avonqbclub.com/event/2023-08-24-thursday-night-dinner/
LOCATION:Avon High School\, 7575 E Country Road 150 S\, Avon\, IN\, 46123\, United States
CATEGORIES:Junior,Senior,Sophomore,Team Dinner
ATTACH;FMTTYPE=image/jpeg:https://avonqbclub.com/wp-content/uploads/2023/04/2023-team-meal.jpg
ORGANIZER;CN="Avon Quarterback Club":MAILTO:avonquarterbackclub@gmail.com
END:VEVENT
BEGIN:VEVENT
DTSTART;TZID=America/Indiana/Indianapolis:20230817T173000
DTEND;TZID=America/Indiana/Indianapolis:20230817T183000
DTSTAMP:20260424T194449
CREATED:20230720T221238Z
LAST-MODIFIED:20230720T221238Z
UID:10061-1692293400-1692297000@avonqbclub.com
SUMMARY:Thursday Night Dinner
DESCRIPTION:>> Information about Thursday Night Dinners
URL:https://avonqbclub.com/event/2023-08-17-thursday-night-dinner/
LOCATION:Avon High School\, 7575 E Country Road 150 S\, Avon\, IN\, 46123\, United States
CATEGORIES:Junior,Senior,Sophomore,Team Dinner
ATTACH;FMTTYPE=image/jpeg:https://avonqbclub.com/wp-content/uploads/2023/04/2023-team-meal.jpg
ORGANIZER;CN="Avon Quarterback Club":MAILTO:avonquarterbackclub@gmail.com
END:VEVENT
END:VCALENDAR