BEGIN:VCALENDAR
VERSION:2.0
PRODID:-//Avon Quarterback Club - ECPv6.15.20//NONSGML v1.0//EN
CALSCALE:GREGORIAN
METHOD:PUBLISH
X-ORIGINAL-URL:https://avonqbclub.com
X-WR-CALDESC:Events for Avon Quarterback Club
REFRESH-INTERVAL;VALUE=DURATION:PT1H
X-Robots-Tag:noindex
X-PUBLISHED-TTL:PT1H
BEGIN:VTIMEZONE
TZID:America/Indiana/Indianapolis
BEGIN:DAYLIGHT
TZOFFSETFROM:-0500
TZOFFSETTO:-0400
TZNAME:EDT
DTSTART:20220313T070000
END:DAYLIGHT
BEGIN:STANDARD
TZOFFSETFROM:-0400
TZOFFSETTO:-0500
TZNAME:EST
DTSTART:20221106T060000
END:STANDARD
BEGIN:DAYLIGHT
TZOFFSETFROM:-0500
TZOFFSETTO:-0400
TZNAME:EDT
DTSTART:20230312T070000
END:DAYLIGHT
BEGIN:STANDARD
TZOFFSETFROM:-0400
TZOFFSETTO:-0500
TZNAME:EST
DTSTART:20231105T060000
END:STANDARD
BEGIN:DAYLIGHT
TZOFFSETFROM:-0500
TZOFFSETTO:-0400
TZNAME:EDT
DTSTART:20240310T070000
END:DAYLIGHT
BEGIN:STANDARD
TZOFFSETFROM:-0400
TZOFFSETTO:-0500
TZNAME:EST
DTSTART:20241103T060000
END:STANDARD
END:VTIMEZONE
BEGIN:VEVENT
DTSTART;TZID=America/Indiana/Indianapolis:20230601T180000
DTEND;TZID=America/Indiana/Indianapolis:20230601T200000
DTSTAMP:20260424T211756
CREATED:20230601T012509Z
LAST-MODIFIED:20230601T012509Z
UID:9835-1685642400-1685649600@avonqbclub.com
SUMMARY:First Practice Organization
DESCRIPTION:
URL:https://avonqbclub.com/event/first-practice-organization-2023/
LOCATION:Avon High School\, 7575 E Country Road 150 S\, Avon\, IN\, 46123\, United States
CATEGORIES:Practice
ORGANIZER;CN="Avon High School Coaching Staff":MAILTO:kjmcgrath@avon-schools.org
END:VEVENT
BEGIN:VEVENT
DTSTART;TZID=America/Indiana/Indianapolis:20230518T153000
DTEND;TZID=America/Indiana/Indianapolis:20230518T163000
DTSTAMP:20260424T211756
CREATED:20230427T042646Z
LAST-MODIFIED:20230502T052230Z
UID:9597-1684423800-1684427400@avonqbclub.com
SUMMARY:Weights 🏋🏻‍♂️
DESCRIPTION:
URL:https://avonqbclub.com/event/weights-2023-05-18/
LOCATION:Avon High School\, 7575 E Country Road 150 S\, Avon\, IN\, 46123\, United States
CATEGORIES:Practice
END:VEVENT
BEGIN:VEVENT
DTSTART;TZID=America/Indiana/Indianapolis:20230516T153000
DTEND;TZID=America/Indiana/Indianapolis:20230516T163000
DTSTAMP:20260424T211756
CREATED:20230427T042551Z
LAST-MODIFIED:20230502T052234Z
UID:9595-1684251000-1684254600@avonqbclub.com
SUMMARY:Weights 🏋🏻‍♂️
DESCRIPTION:
URL:https://avonqbclub.com/event/weights-2023-05-16/
LOCATION:Avon High School\, 7575 E Country Road 150 S\, Avon\, IN\, 46123\, United States
CATEGORIES:Practice
END:VEVENT
BEGIN:VEVENT
DTSTART;TZID=America/Indiana/Indianapolis:20230515T153000
DTEND;TZID=America/Indiana/Indianapolis:20230515T163000
DTSTAMP:20260424T211756
CREATED:20230427T042412Z
LAST-MODIFIED:20230502T052238Z
UID:9593-1684164600-1684168200@avonqbclub.com
SUMMARY:Weights 🏋🏻‍♂️
DESCRIPTION:
URL:https://avonqbclub.com/event/weights-2023-05-15/
LOCATION:Avon High School\, 7575 E Country Road 150 S\, Avon\, IN\, 46123\, United States
CATEGORIES:Practice
END:VEVENT
BEGIN:VEVENT
DTSTART;TZID=America/Indiana/Indianapolis:20230511T153000
DTEND;TZID=America/Indiana/Indianapolis:20230511T163000
DTSTAMP:20260424T211756
CREATED:20230427T041834Z
LAST-MODIFIED:20230508T195314Z
UID:9588-1683819000-1683822600@avonqbclub.com
SUMMARY:Weights 🏋🏻‍♂️
DESCRIPTION:
URL:https://avonqbclub.com/event/weights-2023-09-11/
LOCATION:Avon High School\, 7575 E Country Road 150 S\, Avon\, IN\, 46123\, United States
CATEGORIES:Practice
END:VEVENT
BEGIN:VEVENT
DTSTART;TZID=America/Indiana/Indianapolis:20230509T153000
DTEND;TZID=America/Indiana/Indianapolis:20230509T163000
DTSTAMP:20260424T211756
CREATED:20230427T041422Z
LAST-MODIFIED:20230508T195204Z
UID:9586-1683646200-1683649800@avonqbclub.com
SUMMARY:Weights 🏋🏻‍♂️
DESCRIPTION:
URL:https://avonqbclub.com/event/weights-2023-05-09/
LOCATION:Avon High School\, 7575 E Country Road 150 S\, Avon\, IN\, 46123\, United States
CATEGORIES:Practice
END:VEVENT
BEGIN:VEVENT
DTSTART;TZID=America/Indiana/Indianapolis:20230508T153000
DTEND;TZID=America/Indiana/Indianapolis:20230508T163000
DTSTAMP:20260424T211756
CREATED:20230427T042008Z
LAST-MODIFIED:20230502T052245Z
UID:9590-1683559800-1683563400@avonqbclub.com
SUMMARY:Weights 🏋🏻‍♂️
DESCRIPTION:
URL:https://avonqbclub.com/event/weights-2023-05-08/
LOCATION:Avon High School\, 7575 E Country Road 150 S\, Avon\, IN\, 46123\, United States
CATEGORIES:Practice
END:VEVENT
BEGIN:VEVENT
DTSTART;TZID=America/Indiana/Indianapolis:20230504T180000
DTEND;TZID=America/Indiana/Indianapolis:20230504T200000
DTSTAMP:20260424T211756
CREATED:20230427T041253Z
LAST-MODIFIED:20230427T041332Z
UID:9584-1683223200-1683230400@avonqbclub.com
SUMMARY:Practice
DESCRIPTION:
URL:https://avonqbclub.com/event/practice-2023-05-04/
LOCATION:Avon High School\, 7575 E Country Road 150 S\, Avon\, IN\, 46123\, United States
CATEGORIES:Practice
END:VEVENT
BEGIN:VEVENT
DTSTART;TZID=America/Indiana/Indianapolis:20230502T180000
DTEND;TZID=America/Indiana/Indianapolis:20230502T200000
DTSTAMP:20260424T211756
CREATED:20230427T041058Z
LAST-MODIFIED:20230427T041248Z
UID:9582-1683050400-1683057600@avonqbclub.com
SUMMARY:Practice
DESCRIPTION:
URL:https://avonqbclub.com/event/practice-2023-05-02/
LOCATION:Avon High School\, 7575 E Country Road 150 S\, Avon\, IN\, 46123\, United States
CATEGORIES:Practice
END:VEVENT
BEGIN:VEVENT
DTSTART;TZID=America/Indiana/Indianapolis:20230501T180000
DTEND;TZID=America/Indiana/Indianapolis:20230501T210000
DTSTAMP:20260424T211756
CREATED:20230414T161758Z
LAST-MODIFIED:20230414T162705Z
UID:9196-1682964000-1682974800@avonqbclub.com
SUMMARY:College Day
DESCRIPTION:
URL:https://avonqbclub.com/event/college-day/
LOCATION:Avon High School\, 7575 E Country Road 150 S\, Avon\, IN\, 46123\, United States
CATEGORIES:Practice,Recruiting
END:VEVENT
END:VCALENDAR