BEGIN:VCALENDAR
VERSION:2.0
PRODID:-//Avon Quarterback Club - ECPv6.15.20//NONSGML v1.0//EN
CALSCALE:GREGORIAN
METHOD:PUBLISH
X-WR-CALNAME:Avon Quarterback Club
X-ORIGINAL-URL:https://avonqbclub.com
X-WR-CALDESC:Events for Avon Quarterback Club
REFRESH-INTERVAL;VALUE=DURATION:PT1H
X-Robots-Tag:noindex
X-PUBLISHED-TTL:PT1H
BEGIN:VTIMEZONE
TZID:America/Indiana/Indianapolis
BEGIN:DAYLIGHT
TZOFFSETFROM:-0500
TZOFFSETTO:-0400
TZNAME:EDT
DTSTART:20220313T070000
END:DAYLIGHT
BEGIN:STANDARD
TZOFFSETFROM:-0400
TZOFFSETTO:-0500
TZNAME:EST
DTSTART:20221106T060000
END:STANDARD
BEGIN:DAYLIGHT
TZOFFSETFROM:-0500
TZOFFSETTO:-0400
TZNAME:EDT
DTSTART:20230312T070000
END:DAYLIGHT
BEGIN:STANDARD
TZOFFSETFROM:-0400
TZOFFSETTO:-0500
TZNAME:EST
DTSTART:20231105T060000
END:STANDARD
BEGIN:DAYLIGHT
TZOFFSETFROM:-0500
TZOFFSETTO:-0400
TZNAME:EDT
DTSTART:20240310T070000
END:DAYLIGHT
BEGIN:STANDARD
TZOFFSETFROM:-0400
TZOFFSETTO:-0500
TZNAME:EST
DTSTART:20241103T060000
END:STANDARD
BEGIN:DAYLIGHT
TZOFFSETFROM:-0500
TZOFFSETTO:-0400
TZNAME:EDT
DTSTART:20250309T070000
END:DAYLIGHT
BEGIN:STANDARD
TZOFFSETFROM:-0400
TZOFFSETTO:-0500
TZNAME:EST
DTSTART:20251102T060000
END:STANDARD
END:VTIMEZONE
BEGIN:VEVENT
DTSTART;TZID=America/Indiana/Indianapolis:20241019T100000
DTEND;TZID=America/Indiana/Indianapolis:20241019T120000
DTSTAMP:20260424T201052
CREATED:20240722T234359Z
LAST-MODIFIED:20240728T175606Z
UID:11731-1729332000-1729339200@avonqbclub.com
SUMMARY:JV v. Noblesville
DESCRIPTION:
URL:https://avonqbclub.com/event/jv-v-noblesville-2024/
LOCATION:Avon High School\, 7575 E Country Road 150 S\, Avon\, IN\, 46123\, United States
CATEGORIES:Game,Junior Varsity
ORGANIZER;CN="Avon High School Coaching Staff":MAILTO:kjmcgrath@avon-schools.org
END:VEVENT
BEGIN:VEVENT
DTSTART;TZID=America/Indiana/Indianapolis:20241017T170000
DTEND;TZID=America/Indiana/Indianapolis:20241017T190000
DTSTAMP:20260424T201052
CREATED:20240712T225259Z
LAST-MODIFIED:20240813T040005Z
UID:11658-1729184400-1729191600@avonqbclub.com
SUMMARY:TNT Dinner (Breakfast)
DESCRIPTION:
URL:https://avonqbclub.com/event/tnt-dinner-2024-10-17/
LOCATION:Avon High School\, 7575 E Country Road 150 S\, Avon\, IN\, 46123\, United States
CATEGORIES:Junior,Junior Varsity,Senior,Sophomore,Team Dinner,Varsity
ATTACH;FMTTYPE=image/jpeg:https://avonqbclub.com/wp-content/uploads/2024/07/2023-09-14-17.45.37-scaled.jpg
ORGANIZER;CN="Avon Quarterback Club":MAILTO:avonquarterbackclub@gmail.com
END:VEVENT
BEGIN:VEVENT
DTSTART;TZID=America/Indiana/Indianapolis:20241012T100000
DTEND;TZID=America/Indiana/Indianapolis:20241012T120000
DTSTAMP:20260424T201052
CREATED:20240722T234259Z
LAST-MODIFIED:20240728T175521Z
UID:11729-1728727200-1728734400@avonqbclub.com
SUMMARY:JV @Zionsville
DESCRIPTION:
URL:https://avonqbclub.com/event/jv-zionsville-2024/
LOCATION:Zionsville High School\, 1000 Mulberry St\, Zionsville\, IN\, 46077\, United States
CATEGORIES:Game,Junior Varsity
ORGANIZER;CN="Avon High School Coaching Staff":MAILTO:kjmcgrath@avon-schools.org
END:VEVENT
BEGIN:VEVENT
DTSTART;TZID=America/Indiana/Indianapolis:20241010T173000
DTEND;TZID=America/Indiana/Indianapolis:20241010T190000
DTSTAMP:20260424T201052
CREATED:20240712T225144Z
LAST-MODIFIED:20240825T011821Z
UID:11656-1728581400-1728586800@avonqbclub.com
SUMMARY:TNT Dinner (Tailgate/Concession)
DESCRIPTION:
URL:https://avonqbclub.com/event/tnt-dinner-2024-10-10/
LOCATION:Avon High School\, 7575 E Country Road 150 S\, Avon\, IN\, 46123\, United States
CATEGORIES:Junior,Junior Varsity,Senior,Sophomore,Team Dinner,Varsity
ATTACH;FMTTYPE=image/jpeg:https://avonqbclub.com/wp-content/uploads/2024/07/2023-09-14-17.49.27-scaled-e1730934226517.jpg
ORGANIZER;CN="Avon Quarterback Club":MAILTO:avonquarterbackclub@gmail.com
END:VEVENT
BEGIN:VEVENT
DTSTART;TZID=America/Indiana/Indianapolis:20241005T100000
DTEND;TZID=America/Indiana/Indianapolis:20241005T120000
DTSTAMP:20260424T201052
CREATED:20240722T234109Z
LAST-MODIFIED:20240728T175426Z
UID:11725-1728122400-1728129600@avonqbclub.com
SUMMARY:JV v. Westfield
DESCRIPTION:
URL:https://avonqbclub.com/event/jv-v-westfield-2024/
LOCATION:Avon High School\, 7575 E Country Road 150 S\, Avon\, IN\, 46123\, United States
CATEGORIES:Game,Junior Varsity
ORGANIZER;CN="Avon High School Coaching Staff":MAILTO:kjmcgrath@avon-schools.org
END:VEVENT
BEGIN:VEVENT
DTSTART;TZID=America/Indiana/Indianapolis:20241003T173000
DTEND;TZID=America/Indiana/Indianapolis:20241003T190000
DTSTAMP:20260424T201052
CREATED:20240712T225019Z
LAST-MODIFIED:20240725T170558Z
UID:11654-1727976600-1727982000@avonqbclub.com
SUMMARY:TNT Dinner (Chick-fil-A)
DESCRIPTION:
URL:https://avonqbclub.com/event/tnt-dinner-2024-10-03/
LOCATION:Avon High School\, 7575 E Country Road 150 S\, Avon\, IN\, 46123\, United States
CATEGORIES:Junior,Junior Varsity,Senior,Sophomore,Team Dinner,Varsity
ATTACH;FMTTYPE=image/jpeg:https://avonqbclub.com/wp-content/uploads/2024/07/2023-09-14-18.01.51-scaled-e1730932813821.jpg
ORGANIZER;CN="Avon Quarterback Club":MAILTO:avonquarterbackclub@gmail.com
END:VEVENT
BEGIN:VEVENT
DTSTART;TZID=America/Indiana/Indianapolis:20240928T110000
DTEND;TZID=America/Indiana/Indianapolis:20240928T130000
DTSTAMP:20260424T201052
CREATED:20240722T233912Z
LAST-MODIFIED:20240722T233912Z
UID:11721-1727521200-1727528400@avonqbclub.com
SUMMARY:JV @Fishers
DESCRIPTION:
URL:https://avonqbclub.com/event/jv-fishers-2024/
LOCATION:Fishers High School\, 13000 Promise Rd\, Fishers\, IN\, 46038\, United States
CATEGORIES:Game,Junior Varsity
ORGANIZER;CN="Avon High School Coaching Staff":MAILTO:kjmcgrath@avon-schools.org
END:VEVENT
BEGIN:VEVENT
DTSTART;TZID=America/Indiana/Indianapolis:20240926T173000
DTEND;TZID=America/Indiana/Indianapolis:20240926T190000
DTSTAMP:20260424T201052
CREATED:20240712T224857Z
LAST-MODIFIED:20240813T035858Z
UID:11652-1727371800-1727377200@avonqbclub.com
SUMMARY:TNT Dinner (Philly Steak)
DESCRIPTION:
URL:https://avonqbclub.com/event/tnt-dinner-2024-09-26/
LOCATION:Avon High School\, 7575 E Country Road 150 S\, Avon\, IN\, 46123\, United States
CATEGORIES:Junior,Junior Varsity,Senior,Sophomore,Team Dinner,Varsity
ATTACH;FMTTYPE=image/jpeg:https://avonqbclub.com/wp-content/uploads/2024/07/2023-09-14-18.09.17-scaled.jpg
ORGANIZER;CN="Avon Quarterback Club":MAILTO:avonquarterbackclub@gmail.com
END:VEVENT
BEGIN:VEVENT
DTSTART;TZID=America/Indiana/Indianapolis:20240921T100000
DTEND;TZID=America/Indiana/Indianapolis:20240921T120000
DTSTAMP:20260424T201052
CREATED:20240722T233804Z
LAST-MODIFIED:20240728T175325Z
UID:11719-1726912800-1726920000@avonqbclub.com
SUMMARY:JV v. Franklin Central
DESCRIPTION:
URL:https://avonqbclub.com/event/jv-v-franklin-central-2024/
LOCATION:Avon High School\, 7575 E Country Road 150 S\, Avon\, IN\, 46123\, United States
CATEGORIES:Game,Junior Varsity
ORGANIZER;CN="Avon High School Coaching Staff":MAILTO:kjmcgrath@avon-schools.org
END:VEVENT
BEGIN:VEVENT
DTSTART;TZID=America/Indiana/Indianapolis:20240919T173000
DTEND;TZID=America/Indiana/Indianapolis:20240919T190000
DTSTAMP:20260424T201052
CREATED:20240712T224720Z
LAST-MODIFIED:20240813T035832Z
UID:11650-1726767000-1726772400@avonqbclub.com
SUMMARY:TNT Dinner (Potato Bar/Chicken)
DESCRIPTION:
URL:https://avonqbclub.com/event/tnt-dinner-2024-09-19/
LOCATION:Avon High School\, 7575 E Country Road 150 S\, Avon\, IN\, 46123\, United States
CATEGORIES:Junior,Junior Varsity,Senior,Sophomore,Team Dinner,Varsity
ATTACH;FMTTYPE=image/jpeg:https://avonqbclub.com/wp-content/uploads/2024/07/2023-09-14-17.44.20-scaled-e1730933904446.jpg
ORGANIZER;CN="Avon Quarterback Club":MAILTO:avonquarterbackclub@gmail.com
END:VEVENT
BEGIN:VEVENT
DTSTART;TZID=America/Indiana/Indianapolis:20240914T100000
DTEND;TZID=America/Indiana/Indianapolis:20240914T120000
DTSTAMP:20260424T201052
CREATED:20240722T233555Z
LAST-MODIFIED:20240728T175220Z
UID:11717-1726308000-1726315200@avonqbclub.com
SUMMARY:JV v. Brownsburg
DESCRIPTION:
URL:https://avonqbclub.com/event/jv-v-brownsburg-2024/
LOCATION:Avon High School\, 7575 E Country Road 150 S\, Avon\, IN\, 46123\, United States
CATEGORIES:Game,Junior Varsity
ORGANIZER;CN="Avon High School Coaching Staff":MAILTO:kjmcgrath@avon-schools.org
END:VEVENT
BEGIN:VEVENT
DTSTART;TZID=America/Indiana/Indianapolis:20240912T173000
DTEND;TZID=America/Indiana/Indianapolis:20240912T190000
DTSTAMP:20260424T201052
CREATED:20240712T224447Z
LAST-MODIFIED:20240813T035747Z
UID:11648-1726162200-1726167600@avonqbclub.com
SUMMARY:TNT Dinner (BBQ)
DESCRIPTION:
URL:https://avonqbclub.com/event/tnt-dinner-2024-09-12/
LOCATION:Avon High School\, 7575 E Country Road 150 S\, Avon\, IN\, 46123\, United States
CATEGORIES:Junior,Junior Varsity,Senior,Sophomore,Team Dinner,Varsity
ATTACH;FMTTYPE=image/jpeg:https://avonqbclub.com/wp-content/uploads/2024/07/2023-09-14-17.45.37-scaled.jpg
ORGANIZER;CN="Avon Quarterback Club":MAILTO:avonquarterbackclub@gmail.com
END:VEVENT
BEGIN:VEVENT
DTSTART;TZID=America/Indiana/Indianapolis:20240907T100000
DTEND;TZID=America/Indiana/Indianapolis:20240907T120000
DTSTAMP:20260424T201052
CREATED:20240722T233252Z
LAST-MODIFIED:20240728T175137Z
UID:11711-1725703200-1725710400@avonqbclub.com
SUMMARY:JV @Hamilton SE
DESCRIPTION:
URL:https://avonqbclub.com/event/jv-hamilton-se-2024/
LOCATION:Hamilton Southeastern High School\, 12499 Olio Rd\, Fishers\, IN\, 46037\, United States
CATEGORIES:Game,Junior Varsity
ORGANIZER;CN="Avon High School Coaching Staff":MAILTO:kjmcgrath@avon-schools.org
END:VEVENT
BEGIN:VEVENT
DTSTART;TZID=America/Indiana/Indianapolis:20240905T173000
DTEND;TZID=America/Indiana/Indianapolis:20240905T190000
DTSTAMP:20260424T201052
CREATED:20240712T224205Z
LAST-MODIFIED:20240813T035642Z
UID:11645-1725557400-1725562800@avonqbclub.com
SUMMARY:TNT Dinner (Mexican) (Senior Night)
DESCRIPTION:
URL:https://avonqbclub.com/event/tnt-dinner-2024-09-05/
LOCATION:Avon High School\, 7575 E Country Road 150 S\, Avon\, IN\, 46123\, United States
CATEGORIES:Junior,Junior Varsity,Senior,Sophomore,Team Dinner,Varsity
ATTACH;FMTTYPE=image/jpeg:https://avonqbclub.com/wp-content/uploads/2024/07/2023-09-14-17.49.27-scaled-e1730934226517.jpg
ORGANIZER;CN="Avon High School Coaching Staff":MAILTO:kjmcgrath@avon-schools.org
END:VEVENT
BEGIN:VEVENT
DTSTART;TZID=America/Indiana/Indianapolis:20240831T113000
DTEND;TZID=America/Indiana/Indianapolis:20240831T133000
DTSTAMP:20260424T201052
CREATED:20240722T165024Z
LAST-MODIFIED:20240728T175001Z
UID:11688-1725103800-1725111000@avonqbclub.com
SUMMARY:JV @Ben Davis
DESCRIPTION:Per Coach\, both Freshmen and JV will be AWAY against Ben Davis this year.
URL:https://avonqbclub.com/event/jv-ben-davis-2024/
LOCATION:Ben Davis High School\, 1200 N Girls School Rd\, Indianapolis\, IN\, 46214\, United States
CATEGORIES:Game,Junior Varsity
ORGANIZER;CN="Avon High School Coaching Staff":MAILTO:kjmcgrath@avon-schools.org
END:VEVENT
BEGIN:VEVENT
DTSTART;TZID=America/Indiana/Indianapolis:20240829T173000
DTEND;TZID=America/Indiana/Indianapolis:20240829T190000
DTSTAMP:20260424T201052
CREATED:20240712T224021Z
LAST-MODIFIED:20240825T011655Z
UID:11643-1724952600-1724958000@avonqbclub.com
SUMMARY:TNT Dinner (Sliders)
DESCRIPTION:
URL:https://avonqbclub.com/event/tnt-dinner-2024-08-29/
LOCATION:Avon High School\, 7575 E Country Road 150 S\, Avon\, IN\, 46123\, United States
CATEGORIES:Junior,Junior Varsity,Senior,Sophomore,Team Dinner,Varsity
ATTACH;FMTTYPE=image/jpeg:https://avonqbclub.com/wp-content/uploads/2024/07/2023-09-14-18.01.51-scaled-e1730932813821.jpg
ORGANIZER;CN="Avon Quarterback Club":MAILTO:avonquarterbackclub@gmail.com
END:VEVENT
BEGIN:VEVENT
DTSTART;TZID=America/Indiana/Indianapolis:20240824T120000
DTEND;TZID=America/Indiana/Indianapolis:20240824T140000
DTSTAMP:20260424T201052
CREATED:20240722T151928Z
LAST-MODIFIED:20240728T174749Z
UID:11681-1724500800-1724508000@avonqbclub.com
SUMMARY:JV v. Lafayette Jefferson
DESCRIPTION:
URL:https://avonqbclub.com/event/jv-v-lafayette-jefferson-2024/
LOCATION:Avon High School\, 7575 E Country Road 150 S\, Avon\, IN\, 46123\, United States
CATEGORIES:Game,Junior Varsity
ORGANIZER;CN="Avon High School Coaching Staff":MAILTO:kjmcgrath@avon-schools.org
END:VEVENT
BEGIN:VEVENT
DTSTART;TZID=America/Indiana/Indianapolis:20240822T173000
DTEND;TZID=America/Indiana/Indianapolis:20240822T190000
DTSTAMP:20260424T201052
CREATED:20240712T221825Z
LAST-MODIFIED:20240725T164224Z
UID:11636-1724347800-1724353200@avonqbclub.com
SUMMARY:TNT Dinner (Pasta)
DESCRIPTION:
URL:https://avonqbclub.com/event/tnt-dinner-2024-08-22/
LOCATION:Avon High School\, 7575 E Country Road 150 S\, Avon\, IN\, 46123\, United States
CATEGORIES:Junior,Junior Varsity,Senior,Sophomore,Team Dinner,Varsity
ATTACH;FMTTYPE=image/jpeg:https://avonqbclub.com/wp-content/uploads/2024/07/2023-09-14-18.09.17-scaled.jpg
ORGANIZER;CN="Avon High School Coaching Staff":MAILTO:kjmcgrath@avon-schools.org
END:VEVENT
BEGIN:VEVENT
DTSTART;TZID=America/Indiana/Indianapolis:20240816T190000
DTEND;TZID=America/Indiana/Indianapolis:20240816T220000
DTSTAMP:20260424T201052
CREATED:20240718T172435Z
LAST-MODIFIED:20240728T174520Z
UID:11675-1723834800-1723845600@avonqbclub.com
SUMMARY:Scrimmage v. Warren Central
DESCRIPTION:
URL:https://avonqbclub.com/event/scrimmage-v-warren-central-2024/
LOCATION:Avon High School\, 7575 E Country Road 150 S\, Avon\, IN\, 46123\, United States
CATEGORIES:Junior Varsity,Scrimmage,Varsity
ORGANIZER;CN="Avon High School Coaching Staff":MAILTO:kjmcgrath@avon-schools.org
END:VEVENT
BEGIN:VEVENT
DTSTART;TZID=America/Indiana/Indianapolis:20240809T150000
DTEND;TZID=America/Indiana/Indianapolis:20240809T190000
DTSTAMP:20260424T201052
CREATED:20240712T213053Z
LAST-MODIFIED:20240716T175832Z
UID:11632-1723215600-1723230000@avonqbclub.com
SUMMARY:Team Picture Day
DESCRIPTION:Pictures will be taken after school.  Timing listed here on the site is approximate. \nThis includes Senior pictures!  Senior players/parents\, please check your email for information from Crystal Bolden about all Senior activities this season. \nPlease Note: The official team pictures are coordinated by the school / Athletic Department\, not the Quarterback Club\, so the coaching staff determines the date/time/expectations\, etc. \nHowever\, the SENIOR photos are coordinated and paid for by the Quarterback Club with a private photographer\, and we schedule it to happen on the same day as team pictures for efficiency. \n 
URL:https://avonqbclub.com/event/team-picture-day-2024/
LOCATION:Avon High School\, 7575 E Country Road 150 S\, Avon\, IN\, 46123\, United States
CATEGORIES:Freshman,Junior Varsity,Sophomore,Varsity
ATTACH;FMTTYPE=image/jpeg:https://avonqbclub.com/wp-content/uploads/2024/07/camera.jpg
ORGANIZER;CN="Avon High School Coaching Staff":MAILTO:kjmcgrath@avon-schools.org
END:VEVENT
BEGIN:VEVENT
DTSTART;TZID=America/Indiana/Indianapolis:20240718T173000
DTEND;TZID=America/Indiana/Indianapolis:20240718T193000
DTSTAMP:20260424T201052
CREATED:20240718T172105Z
LAST-MODIFIED:20240718T172200Z
UID:11672-1721323800-1721331000@avonqbclub.com
SUMMARY:Scrimmage v. Decatur
DESCRIPTION:
URL:https://avonqbclub.com/event/decatur-scrimmage-2024/
LOCATION:Decatur High School\, 5251 Kentucky Ave\, Indianapolis\, IN\, 46221\, United States
CATEGORIES:Junior Varsity,Scrimmage,Varsity
ORGANIZER;CN="Avon High School Coaching Staff":MAILTO:kjmcgrath@avon-schools.org
END:VEVENT
BEGIN:VEVENT
DTSTART;TZID=America/Indiana/Indianapolis:20231014T100000
DTEND;TZID=America/Indiana/Indianapolis:20231014T120000
DTSTAMP:20260424T201052
CREATED:20230601T023323Z
LAST-MODIFIED:20230601T023323Z
UID:9881-1697277600-1697284800@avonqbclub.com
SUMMARY:JV Team v. Noblesville
DESCRIPTION:
URL:https://avonqbclub.com/event/jv-team-v-noblesville-2023/
LOCATION:Noblesville High School\, 18111 Cumberland Rd\, Noblesville\, IN\, 46060\, United States
CATEGORIES:Game,Junior Varsity
END:VEVENT
BEGIN:VEVENT
DTSTART;TZID=America/Indiana/Indianapolis:20231007T100000
DTEND;TZID=America/Indiana/Indianapolis:20231007T120000
DTSTAMP:20260424T201052
CREATED:20230601T023046Z
LAST-MODIFIED:20230601T023046Z
UID:9877-1696672800-1696680000@avonqbclub.com
SUMMARY:JV Team v . Zionsville
DESCRIPTION:
URL:https://avonqbclub.com/event/jv-team-v-zionsville-2023/
LOCATION:Avon High School\, 7575 E Country Road 150 S\, Avon\, IN\, 46123\, United States
CATEGORIES:Game,Junior Varsity
ORGANIZER;CN="Avon High School Coaching Staff":MAILTO:kjmcgrath@avon-schools.org
END:VEVENT
BEGIN:VEVENT
DTSTART;TZID=America/Indiana/Indianapolis:20230930T100000
DTEND;TZID=America/Indiana/Indianapolis:20230930T120000
DTSTAMP:20260424T201052
CREATED:20230601T022652Z
LAST-MODIFIED:20230601T022652Z
UID:9872-1696068000-1696075200@avonqbclub.com
SUMMARY:JV Team v. Westfield
DESCRIPTION:
URL:https://avonqbclub.com/event/jv-team-v-westfield-2023/
LOCATION:Westfield High School\, 18250 N Union St\, Westfield\, IN\, 46074\, United States
CATEGORIES:Game,Junior Varsity
ORGANIZER;CN="Avon High School Coaching Staff":MAILTO:kjmcgrath@avon-schools.org
END:VEVENT
BEGIN:VEVENT
DTSTART;TZID=America/Indiana/Indianapolis:20230923T100000
DTEND;TZID=America/Indiana/Indianapolis:20230923T120000
DTSTAMP:20260424T201052
CREATED:20230601T021827Z
LAST-MODIFIED:20230601T021827Z
UID:9868-1695463200-1695470400@avonqbclub.com
SUMMARY:JV Team v. Fishers
DESCRIPTION:
URL:https://avonqbclub.com/event/jv-team-v-fishers/
LOCATION:Avon High School\, 7575 E Country Road 150 S\, Avon\, IN\, 46123\, United States
CATEGORIES:Game,Junior Varsity
ORGANIZER;CN="Avon High School Coaching Staff":MAILTO:kjmcgrath@avon-schools.org
END:VEVENT
BEGIN:VEVENT
DTSTART;TZID=America/Indiana/Indianapolis:20230916T103000
DTEND;TZID=America/Indiana/Indianapolis:20230916T120000
DTSTAMP:20260424T201052
CREATED:20230601T021444Z
LAST-MODIFIED:20230912T220901Z
UID:9864-1694860200-1694865600@avonqbclub.com
SUMMARY:JV Team v. Franklin Central
DESCRIPTION:
URL:https://avonqbclub.com/event/jv-team-v-franklin-central-2023/
LOCATION:Franklin Central High School\, 6215 S Franklin Rd\, Indianapolis\, IN\, 46259\, United States
CATEGORIES:Game,Junior Varsity
ORGANIZER;CN="Avon High School Coaching Staff":MAILTO:kjmcgrath@avon-schools.org
END:VEVENT
BEGIN:VEVENT
DTSTART;TZID=America/Indiana/Indianapolis:20230909T100000
DTEND;TZID=America/Indiana/Indianapolis:20230909T120000
DTSTAMP:20260424T201052
CREATED:20230601T021112Z
LAST-MODIFIED:20230601T021112Z
UID:9859-1694253600-1694260800@avonqbclub.com
SUMMARY:JV Team v. Brownsburg
DESCRIPTION:
URL:https://avonqbclub.com/event/jv-team-v-brownsburg-2023/
LOCATION:Brownsburg High School\, 1000 S Odell St\, Brownsburg\, IN\, 46112\, United States
CATEGORIES:Game,Junior Varsity
ORGANIZER;CN="Avon High School Coaching Staff":MAILTO:kjmcgrath@avon-schools.org
END:VEVENT
BEGIN:VEVENT
DTSTART;TZID=America/Indiana/Indianapolis:20230902T100000
DTEND;TZID=America/Indiana/Indianapolis:20230902T120000
DTSTAMP:20260424T201052
CREATED:20230601T020737Z
LAST-MODIFIED:20230601T020737Z
UID:9855-1693648800-1693656000@avonqbclub.com
SUMMARY:JV Team v. Hamilton Southeastern
DESCRIPTION:
URL:https://avonqbclub.com/event/jv-team-v-hamilton-southeastern-2023/
LOCATION:Avon High School\, 7575 E Country Road 150 S\, Avon\, IN\, 46123\, United States
CATEGORIES:Game,Junior Varsity
ORGANIZER;CN="Avon High School Coaching Staff":MAILTO:kjmcgrath@avon-schools.org
END:VEVENT
BEGIN:VEVENT
DTSTART;TZID=America/Indiana/Indianapolis:20230826T100000
DTEND;TZID=America/Indiana/Indianapolis:20230826T120000
DTSTAMP:20260424T201052
CREATED:20230601T014433Z
LAST-MODIFIED:20230601T014433Z
UID:9850-1693044000-1693051200@avonqbclub.com
SUMMARY:JV Team v. Ben Davis
DESCRIPTION:
URL:https://avonqbclub.com/event/jv-team-v-ben-davis-2023/
LOCATION:Avon High School\, 7575 E Country Road 150 S\, Avon\, IN\, 46123\, United States
CATEGORIES:Game,Junior Varsity
ORGANIZER;CN="Avon High School Coaching Staff":MAILTO:kjmcgrath@avon-schools.org
END:VEVENT
BEGIN:VEVENT
DTSTART;TZID=America/Indiana/Indianapolis:20230819T100000
DTEND;TZID=America/Indiana/Indianapolis:20230819T120000
DTSTAMP:20260424T201052
CREATED:20230601T014130Z
LAST-MODIFIED:20230601T014130Z
UID:9845-1692439200-1692446400@avonqbclub.com
SUMMARY:JV Team v. Lawrence North
DESCRIPTION:
URL:https://avonqbclub.com/event/jv-team-v-lawrence-north-2023/
LOCATION:Lawrence North High School\, 7802 Hague Rd\, Indianapolis\, IN\, 46256\, United States
CATEGORIES:Game,Junior Varsity
ORGANIZER;CN="Avon High School Coaching Staff":MAILTO:kjmcgrath@avon-schools.org
END:VEVENT
END:VCALENDAR