BEGIN:VCALENDAR
VERSION:2.0
PRODID:-//Avon Quarterback Club - ECPv6.15.20//NONSGML v1.0//EN
CALSCALE:GREGORIAN
METHOD:PUBLISH
X-WR-CALNAME:Avon Quarterback Club
X-ORIGINAL-URL:https://avonqbclub.com
X-WR-CALDESC:Events for Avon Quarterback Club
REFRESH-INTERVAL;VALUE=DURATION:PT1H
X-Robots-Tag:noindex
X-PUBLISHED-TTL:PT1H
BEGIN:VTIMEZONE
TZID:America/Indiana/Indianapolis
BEGIN:DAYLIGHT
TZOFFSETFROM:-0500
TZOFFSETTO:-0400
TZNAME:EDT
DTSTART:20220313T070000
END:DAYLIGHT
BEGIN:STANDARD
TZOFFSETFROM:-0400
TZOFFSETTO:-0500
TZNAME:EST
DTSTART:20221106T060000
END:STANDARD
BEGIN:DAYLIGHT
TZOFFSETFROM:-0500
TZOFFSETTO:-0400
TZNAME:EDT
DTSTART:20230312T070000
END:DAYLIGHT
BEGIN:STANDARD
TZOFFSETFROM:-0400
TZOFFSETTO:-0500
TZNAME:EST
DTSTART:20231105T060000
END:STANDARD
BEGIN:DAYLIGHT
TZOFFSETFROM:-0500
TZOFFSETTO:-0400
TZNAME:EDT
DTSTART:20240310T070000
END:DAYLIGHT
BEGIN:STANDARD
TZOFFSETFROM:-0400
TZOFFSETTO:-0500
TZNAME:EST
DTSTART:20241103T060000
END:STANDARD
BEGIN:DAYLIGHT
TZOFFSETFROM:-0500
TZOFFSETTO:-0400
TZNAME:EDT
DTSTART:20250309T070000
END:DAYLIGHT
BEGIN:STANDARD
TZOFFSETFROM:-0400
TZOFFSETTO:-0500
TZNAME:EST
DTSTART:20251102T060000
END:STANDARD
BEGIN:DAYLIGHT
TZOFFSETFROM:-0500
TZOFFSETTO:-0400
TZNAME:EDT
DTSTART:20260308T070000
END:DAYLIGHT
BEGIN:STANDARD
TZOFFSETFROM:-0400
TZOFFSETTO:-0500
TZNAME:EST
DTSTART:20261101T060000
END:STANDARD
END:VTIMEZONE
BEGIN:VEVENT
DTSTART;TZID=America/Indiana/Indianapolis:20250821T173000
DTEND;TZID=America/Indiana/Indianapolis:20250821T190000
DTSTAMP:20260424T135912
CREATED:20250502T002055Z
LAST-MODIFIED:20250502T002055Z
UID:12985-1755797400-1755802800@avonqbclub.com
SUMMARY:Fan Gear Pickup
DESCRIPTION:
URL:https://avonqbclub.com/event/fan-gear-pickup-2025/
LOCATION:Avon High School\, 7575 E Country Road 150 S\, Avon\, IN\, 46123\, United States
CATEGORIES:Deadline,Fundraiser
ORGANIZER;CN="Avon Quarterback Club":MAILTO:avonquarterbackclub@gmail.com
END:VEVENT
BEGIN:VEVENT
DTSTART;TZID=America/Indiana/Indianapolis:20240822T173000
DTEND;TZID=America/Indiana/Indianapolis:20240822T193000
DTSTAMP:20260424T135912
CREATED:20240722T215703Z
LAST-MODIFIED:20240725T164531Z
UID:11695-1724347800-1724355000@avonqbclub.com
SUMMARY:Fan Gear Pick-up
DESCRIPTION:Families who ordered Fan Gear from the Avon Quarterback Club (e.g. decals\, yard signs\, fatheads\, and apparel through the 317 Sports Authority site) can pick up their orders at the TNT Dinner on August 22\, 2024!  This is the first TNT Dinner before our FIRST kickoff!
URL:https://avonqbclub.com/event/fan-gear-pick-up-2024/
LOCATION:Avon High School\, 7575 E Country Road 150 S\, Avon\, IN\, 46123\, United States
CATEGORIES:Deadline
ORGANIZER;CN="Avon Quarterback Club":MAILTO:avonquarterbackclub@gmail.com
END:VEVENT
BEGIN:VEVENT
DTSTART;VALUE=DATE:20240822
DTEND;VALUE=DATE:20240823
DTSTAMP:20260424T135912
CREATED:20240621T014018Z
LAST-MODIFIED:20240803T185918Z
UID:11626-1724284800-1724371199@avonqbclub.com
SUMMARY:Player Fee Due
DESCRIPTION:Pay your Player Fee to Avon Quarterback Club \nPay your AHS Athletic Program Support Fee (eFunds)
URL:https://avonqbclub.com/event/player-fee-due-2024/
LOCATION:IN
CATEGORIES:Deadline,Freshman,Junior,Senior,Sophomore
ATTACH;FMTTYPE=image/jpeg:https://avonqbclub.com/wp-content/uploads/2024/06/Image-7-28-24-at-1.31 PM.jpg
ORGANIZER;CN="Avon Quarterback Club":MAILTO:avonquarterbackclub@gmail.com
END:VEVENT
BEGIN:VEVENT
DTSTART;TZID=America/Indiana/Indianapolis:20240811T233000
DTEND;TZID=America/Indiana/Indianapolis:20240811T233000
DTSTAMP:20260424T135912
CREATED:20240722T221257Z
LAST-MODIFIED:20240803T135536Z
UID:11699-1723419000-1723419000@avonqbclub.com
SUMMARY:Fan Gear Orders Due!
DESCRIPTION:All Fan Gear orders are DUE by end of day today!  This includes the decals\, yard signs and fatheads ordered through our Club Shop and all custom apparel ordered through the 317 Sports Authority site. \nOrders will be delivered on Thursday\, 8/22 at the first TNT Dinner\, so mark your calendars!
URL:https://avonqbclub.com/event/fan-gear-orders-due-2024/
LOCATION:IN
CATEGORIES:Deadline
ORGANIZER;CN="Avon Quarterback Club":MAILTO:avonquarterbackclub@gmail.com
END:VEVENT
BEGIN:VEVENT
DTSTART;VALUE=DATE:20240729
DTEND;VALUE=DATE:20240730
DTSTAMP:20260424T135912
CREATED:20240723T205233Z
LAST-MODIFIED:20240723T205246Z
UID:11733-1722211200-1722297599@avonqbclub.com
SUMMARY:Senior Frame Payments Due
DESCRIPTION:Senior parents\, please check your inboxes for messages from Crystal Bolden re: all of the senior activities taking place this season!
URL:https://avonqbclub.com/event/senior-frame-payments-due-2024/
LOCATION:IN
CATEGORIES:Deadline
ORGANIZER;CN="Avon Quarterback Club":MAILTO:avonquarterbackclub@gmail.com
END:VEVENT
BEGIN:VEVENT
DTSTART;VALUE=DATE:20240527
DTEND;VALUE=DATE:20240528
DTSTAMP:20260424T135912
CREATED:20240402T232459Z
LAST-MODIFIED:20240402T232459Z
UID:11482-1716768000-1716854399@avonqbclub.com
SUMMARY:Physicals Due
DESCRIPTION:Physicals can be completed for the ’24-’25 season now. Please submit physicals in PRIVIT before May 27. \nMore info is available here on our site\, or check your ParentSquare messages from the school/coaches.
URL:https://avonqbclub.com/event/2024-physicals-due/
LOCATION:IN
CATEGORIES:Deadline,Freshman,Junior,Senior,Sophomore
ORGANIZER;CN="Avon High School Coaching Staff":MAILTO:kjmcgrath@avon-schools.org
END:VEVENT
BEGIN:VEVENT
DTSTART;VALUE=DATE:20230810
DTEND;VALUE=DATE:20230811
DTSTAMP:20260424T135912
CREATED:20230715T233937Z
LAST-MODIFIED:20230810T015040Z
UID:10021-1691625600-1691711999@avonqbclub.com
SUMMARY:Player Fees Due 🚩
DESCRIPTION:Parents should have received a Parent Square message from Coach McGrath regarding this year’s fees.\n\n \n\nThe Athletic Department’s fees for this year are $50 and payable online only through e-Funds.\n\n \n\nThe Quarterback Club’s fees for this year (we call it the Snack Fee) are $65 and payable by cash\, check or online through this web site here: Player Snack Fee\n\n \n\nBoth fees are due by August 10th.\n\n \n\nQuestions about the athletic fees should be directed to Coach McGrath. Questions about the QB Club fees can be sent through the Contact form or posted to the Facebook group page.
URL:https://avonqbclub.com/event/2023-player-fees-due/
LOCATION:IN
CATEGORIES:Deadline,Freshman,Junior,Senior,Sophomore
ORGANIZER;CN="Avon Quarterback Club":MAILTO:avonquarterbackclub@gmail.com
END:VEVENT
BEGIN:VEVENT
DTSTART;VALUE=DATE:20230601
DTEND;VALUE=DATE:20230602
DTSTAMP:20260424T135912
CREATED:20230414T212606Z
LAST-MODIFIED:20230502T052339Z
UID:9311-1685577600-1685663999@avonqbclub.com
SUMMARY:Pre-Performance Physicals Due 🚩
DESCRIPTION:For the 2022-23 school year\, ACSC is continuing to use a completely paperless clearance process. The process includes a paperless IHSAA Pre-Participation Physical. A parent/guardian will be required to create an account and manage the necessary documents for all of their student/athletes using the PRIVIT Portal. This process will provide a higher level of security and efficiency than the previous process. Step-by-step instructions to complete the process can be found below. \n** You will not be able to participate if you don’t get a physical by June 1st.  Also\, any physical you have gotten before April 1st will NOT count for the summer. ** \nFor more information\, Hendricks Regional Health flyer or go to Avon High School Athletics Department > Policies & Procedures.
URL:https://avonqbclub.com/event/pre-performance-physicals-due/
LOCATION:IN
CATEGORIES:Deadline
ATTACH;FMTTYPE=image/jpeg:https://avonqbclub.com/wp-content/uploads/2016/03/sportsphysicals.jpg
END:VEVENT
END:VCALENDAR