BEGIN:VCALENDAR
VERSION:2.0
PRODID:-//Avon Quarterback Club - ECPv6.15.20//NONSGML v1.0//EN
CALSCALE:GREGORIAN
METHOD:PUBLISH
X-WR-CALNAME:Avon Quarterback Club
X-ORIGINAL-URL:https://avonqbclub.com
X-WR-CALDESC:Events for Avon Quarterback Club
REFRESH-INTERVAL;VALUE=DURATION:PT1H
X-Robots-Tag:noindex
X-PUBLISHED-TTL:PT1H
BEGIN:VTIMEZONE
TZID:America/Indiana/Indianapolis
BEGIN:DAYLIGHT
TZOFFSETFROM:-0500
TZOFFSETTO:-0400
TZNAME:EDT
DTSTART:20220313T070000
END:DAYLIGHT
BEGIN:STANDARD
TZOFFSETFROM:-0400
TZOFFSETTO:-0500
TZNAME:EST
DTSTART:20221106T060000
END:STANDARD
BEGIN:DAYLIGHT
TZOFFSETFROM:-0500
TZOFFSETTO:-0400
TZNAME:EDT
DTSTART:20230312T070000
END:DAYLIGHT
BEGIN:STANDARD
TZOFFSETFROM:-0400
TZOFFSETTO:-0500
TZNAME:EST
DTSTART:20231105T060000
END:STANDARD
BEGIN:DAYLIGHT
TZOFFSETFROM:-0500
TZOFFSETTO:-0400
TZNAME:EDT
DTSTART:20240310T070000
END:DAYLIGHT
BEGIN:STANDARD
TZOFFSETFROM:-0400
TZOFFSETTO:-0500
TZNAME:EST
DTSTART:20241103T060000
END:STANDARD
BEGIN:DAYLIGHT
TZOFFSETFROM:-0500
TZOFFSETTO:-0400
TZNAME:EDT
DTSTART:20250309T070000
END:DAYLIGHT
BEGIN:STANDARD
TZOFFSETFROM:-0400
TZOFFSETTO:-0500
TZNAME:EST
DTSTART:20251102T060000
END:STANDARD
END:VTIMEZONE
BEGIN:VEVENT
DTSTART;TZID=America/Indiana/Indianapolis:20240817T160000
DTEND;TZID=America/Indiana/Indianapolis:20240817T190000
DTSTAMP:20260424T180709
CREATED:20240621T010048Z
LAST-MODIFIED:20240816T023040Z
UID:11612-1723910400-1723921200@avonqbclub.com
SUMMARY:Community Day
DESCRIPTION:What is Community Day? In the past\, it was known as T-Shirt Day—a special occasion when the Band revealed the theme for the year.  Initially\, it was an exclusive event for band members and their families. However\, more recently\, it has become an inclusive celebration for the entire Avon community\, fostering excitement for the upcoming year. Last year marked a significant change\, the Football team and Avon QB Club were invited to participate\, strengthening the relationship between the two groups.\n\nHow you can get involved?\n\nConcessions and support: The Avon QB Club will be working concessions during the event.\nRaffle Donations: Please keep an eye out for requests from your Class Group Liaisons regarding donations for raffle prizes (Freshman\, Sophomore\, and Junior groups).\n\nParticipate in the exciting events: \n\nVendor and Food Trucks: Enjoy a variety of food options from multiple vendors.\nPerformances: Be entertained by the Avon Step Team\, Cheerleaders\, Gold Majorette Club\, and the Band.\nFlag Football Game: Witness the thrilling matchup between the Football team and the Band. Who will hold the trophy this year? (Football team won inaugural Game)\nHalftime Show: Football players will learn and perform part of the band’s choreography.\n2023 Show Introduction: The Band Director will unveil the theme for the upcoming year.\nRaffles and 50/50: Participate for a chance to win prizes!
URL:https://avonqbclub.com/event/community-day-2024/
LOCATION:Avon High School\, 7575 E Country Road 150 S\, Avon\, IN\, 46123\, United States
CATEGORIES:Community Event,Fundraiser
END:VEVENT
BEGIN:VEVENT
DTSTART;TZID=America/Indiana/Indianapolis:20240809T190000
DTEND;TZID=America/Indiana/Indianapolis:20240809T210000
DTSTAMP:20260424T180709
CREATED:20240307T032923Z
LAST-MODIFIED:20240803T184310Z
UID:11447-1723230000-1723237200@avonqbclub.com
SUMMARY:Oriole Night
DESCRIPTION:
URL:https://avonqbclub.com/event/oriole-night-2024/
LOCATION:Avon High School\, 7575 E Country Road 150 S\, Avon\, IN\, 46123\, United States
CATEGORIES:Community Event
ATTACH;FMTTYPE=image/jpeg:https://avonqbclub.com/wp-content/uploads/2024/03/2024-08-02-16.45.48.jpg
ORGANIZER;CN="Avon High School Coaching Staff":MAILTO:kjmcgrath@avon-schools.org
END:VEVENT
BEGIN:VEVENT
DTSTART;TZID=America/Indiana/Indianapolis:20230819T160000
DTEND;TZID=America/Indiana/Indianapolis:20230819T193000
DTSTAMP:20260424T180709
CREATED:20230628T231232Z
LAST-MODIFIED:20230809T224036Z
UID:9930-1692460800-1692473400@avonqbclub.com
SUMMARY:Community Day with Avon Band
DESCRIPTION:For more information\, go to the Avon Band web site: https://avonband.com/community-day/
URL:https://avonqbclub.com/event/2023-community-day-with-avon-band/
LOCATION:Avon High School\, 7575 E Country Road 150 S\, Avon\, IN\, 46123\, United States
CATEGORIES:Community Event,Fundraiser,Scrimmage
ATTACH;FMTTYPE=image/jpeg:https://avonqbclub.com/wp-content/uploads/2023/06/2023-Community-Day.jpg
ORGANIZER;CN="Avon Quarterback Club":MAILTO:avonquarterbackclub@gmail.com
END:VEVENT
END:VCALENDAR