BEGIN:VCALENDAR
VERSION:2.0
PRODID:-//Avon Quarterback Club - ECPv6.15.20//NONSGML v1.0//EN
CALSCALE:GREGORIAN
METHOD:PUBLISH
X-ORIGINAL-URL:https://avonqbclub.com
X-WR-CALDESC:Events for Avon Quarterback Club
REFRESH-INTERVAL;VALUE=DURATION:PT1H
X-Robots-Tag:noindex
X-PUBLISHED-TTL:PT1H
BEGIN:VTIMEZONE
TZID:America/Indiana/Indianapolis
BEGIN:DAYLIGHT
TZOFFSETFROM:-0500
TZOFFSETTO:-0400
TZNAME:EDT
DTSTART:20220313T070000
END:DAYLIGHT
BEGIN:STANDARD
TZOFFSETFROM:-0400
TZOFFSETTO:-0500
TZNAME:EST
DTSTART:20221106T060000
END:STANDARD
BEGIN:DAYLIGHT
TZOFFSETFROM:-0500
TZOFFSETTO:-0400
TZNAME:EDT
DTSTART:20230312T070000
END:DAYLIGHT
BEGIN:STANDARD
TZOFFSETFROM:-0400
TZOFFSETTO:-0500
TZNAME:EST
DTSTART:20231105T060000
END:STANDARD
BEGIN:DAYLIGHT
TZOFFSETFROM:-0500
TZOFFSETTO:-0400
TZNAME:EDT
DTSTART:20240310T070000
END:DAYLIGHT
BEGIN:STANDARD
TZOFFSETFROM:-0400
TZOFFSETTO:-0500
TZNAME:EST
DTSTART:20241103T060000
END:STANDARD
BEGIN:DAYLIGHT
TZOFFSETFROM:-0500
TZOFFSETTO:-0400
TZNAME:EDT
DTSTART:20250309T070000
END:DAYLIGHT
BEGIN:STANDARD
TZOFFSETFROM:-0400
TZOFFSETTO:-0500
TZNAME:EST
DTSTART:20251102T060000
END:STANDARD
BEGIN:DAYLIGHT
TZOFFSETFROM:-0500
TZOFFSETTO:-0400
TZNAME:EDT
DTSTART:20260308T070000
END:DAYLIGHT
BEGIN:STANDARD
TZOFFSETFROM:-0400
TZOFFSETTO:-0500
TZNAME:EST
DTSTART:20261101T060000
END:STANDARD
END:VTIMEZONE
BEGIN:VEVENT
DTSTART;VALUE=DATE:20250707
DTEND;VALUE=DATE:20250711
DTSTAMP:20260424T215038
CREATED:20250520T013025Z
LAST-MODIFIED:20250520T013025Z
UID:13074-1751846400-1752191999@avonqbclub.com
SUMMARY:Youth Camp
DESCRIPTION:
URL:https://avonqbclub.com/event/2025-youth-camp/
LOCATION:Avon High School\, 7575 E Country Road 150 S\, Avon\, IN\, 46123\, United States
CATEGORIES:Camp,Youth
ATTACH;FMTTYPE=image/jpeg:https://avonqbclub.com/wp-content/uploads/2025/05/2025-Youth-Camp-flier.jpg
ORGANIZER;CN="Avon High School Coaching Staff":MAILTO:kjmcgrath@avon-schools.org
END:VEVENT
BEGIN:VEVENT
DTSTART;TZID=America/Indiana/Indianapolis:20250614T080000
DTEND;TZID=America/Indiana/Indianapolis:20250614T160000
DTSTAMP:20260424T215038
CREATED:20250215T163954Z
LAST-MODIFIED:20250215T163954Z
UID:12928-1749888000-1749916800@avonqbclub.com
SUMMARY:UIndy Mega Camp
DESCRIPTION:
URL:https://avonqbclub.com/event/uindy-mega-camp-2025/
LOCATION:University of Indianapolis\, 1400 E Hanna Ave\, Indianapolis\, IN\, 46227\, United States
CATEGORIES:Camp
ATTACH;FMTTYPE=image/jpeg:https://avonqbclub.com/wp-content/uploads/2025/02/2025-UIndy-Mega-Camp.jpg
END:VEVENT
BEGIN:VEVENT
DTSTART;TZID=America/Indiana/Indianapolis:20240708T140000
DTEND;TZID=America/Indiana/Indianapolis:20240711T170000
DTSTAMP:20260424T215038
CREATED:20240307T032722Z
LAST-MODIFIED:20240621T011110Z
UID:11445-1720447200-1720717200@avonqbclub.com
SUMMARY:Avon Youth Sports Camp
DESCRIPTION:
URL:https://avonqbclub.com/event/avon-youth-sports-camp-2024/
LOCATION:Avon High School\, 7575 E Country Road 150 S\, Avon\, IN\, 46123\, United States
CATEGORIES:Camp,Youth
ATTACH;FMTTYPE=image/jpeg:https://avonqbclub.com/wp-content/uploads/2024/03/IMG_3186.jpeg
ORGANIZER;CN="Avon High School Coaching Staff":MAILTO:kjmcgrath@avon-schools.org
END:VEVENT
BEGIN:VEVENT
DTSTART;TZID=America/Indiana/Indianapolis:20240608T080000
DTEND;TZID=America/Indiana/Indianapolis:20240608T200000
DTSTAMP:20260424T215038
CREATED:20240307T032323Z
LAST-MODIFIED:20240307T032442Z
UID:11441-1717833600-1717876800@avonqbclub.com
SUMMARY:UIndy Mega Camp
DESCRIPTION:
URL:https://avonqbclub.com/event/uindy-mega-camp-2024/
LOCATION:University of Indianapolis\, 1400 E Hanna Ave\, Indianapolis\, IN\, 46227\, United States
CATEGORIES:Camp
ATTACH;FMTTYPE=image/jpeg:https://avonqbclub.com/wp-content/uploads/2024/03/IMG_4830.jpeg
END:VEVENT
BEGIN:VEVENT
DTSTART;TZID=America/Indiana/Indianapolis:20240529T180000
DTEND;TZID=America/Indiana/Indianapolis:20240529T200000
DTSTAMP:20260424T215038
CREATED:20240402T232752Z
LAST-MODIFIED:20240519T224627Z
UID:11486-1717005600-1717012800@avonqbclub.com
SUMMARY:Newcomer Mini Camp
DESCRIPTION:Newcomer Mini-Camp (ALL new players: Incoming Freshmen AND any incoming players that didn’t play for Avon Football in 2023) \nCamp dates are 5/28 and 5/29 from 6p-8p on the High School Field. Make sure your player brings cleats and gloves.
URL:https://avonqbclub.com/event/2024-newcomer-mini-camp-2/
LOCATION:Avon High School\, 7575 E Country Road 150 S\, Avon\, IN\, 46123\, United States
CATEGORIES:Camp
ORGANIZER;CN="Avon High School Coaching Staff":MAILTO:kjmcgrath@avon-schools.org
END:VEVENT
BEGIN:VEVENT
DTSTART;TZID=America/Indiana/Indianapolis:20240528T180000
DTEND;TZID=America/Indiana/Indianapolis:20240528T200000
DTSTAMP:20260424T215038
CREATED:20240402T232701Z
LAST-MODIFIED:20240519T224633Z
UID:11484-1716919200-1716926400@avonqbclub.com
SUMMARY:Newcomer Mini Camp
DESCRIPTION:Newcomer Mini-Camp (ALL new players: Incoming Freshmen AND any incoming players that didn’t play for Avon Football in 2023) \nCamp dates are 5/28 and 5/29 from 6p-8p on the High School Field. Make sure your player brings cleats and gloves.
URL:https://avonqbclub.com/event/2024-newcomer-mini-camp-1/
LOCATION:Avon High School\, 7575 E Country Road 150 S\, Avon\, IN\, 46123\, United States
CATEGORIES:Camp
ORGANIZER;CN="Avon High School Coaching Staff":MAILTO:kjmcgrath@avon-schools.org
END:VEVENT
BEGIN:VEVENT
DTSTART;VALUE=DATE:20230710
DTEND;VALUE=DATE:20230714
DTSTAMP:20260424T215038
CREATED:20230519T104732Z
LAST-MODIFIED:20230519T105747Z
UID:9791-1688947200-1689292799@avonqbclub.com
SUMMARY:Avon Football Youth and Middle School Camp (2-8)
DESCRIPTION:Scan the QR code or Register here: https://bit.ly/41QEzV5
URL:https://avonqbclub.com/event/2023-avon-football-youth-and-middle-school-camp/
LOCATION:Avon High School\, 7575 E Country Road 150 S\, Avon\, IN\, 46123\, United States
CATEGORIES:Camp,Middle School,Youth
ATTACH;FMTTYPE=image/jpeg:https://avonqbclub.com/wp-content/uploads/2023/05/2023-Summer-Youth-Camp-Flyer.jpg
ORGANIZER;CN="Avon High School Coaching Staff":MAILTO:kjmcgrath@avon-schools.org
END:VEVENT
BEGIN:VEVENT
DTSTART;TZID=America/Indiana/Indianapolis:20230610T080000
DTEND;TZID=America/Indiana/Indianapolis:20230610T200000
DTSTAMP:20260424T215038
CREATED:20230414T162718Z
LAST-MODIFIED:20230601T014918Z
UID:9199-1686384000-1686427200@avonqbclub.com
SUMMARY:UIndy Mega Camp
DESCRIPTION:
URL:https://avonqbclub.com/event/uindy-mega-camp-2023/
LOCATION:Kiesel Field at Key Stadium\, 3850 S State Ave\, Indianapolis\, IN\, 46227\, United States
CATEGORIES:Camp
ATTACH;FMTTYPE=image/jpeg:https://avonqbclub.com/wp-content/uploads/2023/04/2023-UIndy-Mega-Camp.jpg
END:VEVENT
END:VCALENDAR